BEGIN:VCALENDAR
VERSION:2.0
PRODID:-//wp-events-plugin.com//7.0.5//EN
TZID:America/Los_Angeles
X-WR-TIMEZONE:America/Los_Angeles
BEGIN:VEVENT
UID:1010@onc-pdx.org
DTSTART;TZID=America/Los_Angeles:20230126T083000
DTEND;TZID=America/Los_Angeles:20230126T170000
DTSTAMP:20230125T001940Z
URL:https://onc-pdx.org/events/ski-thursday-with-ted-and-friends/
SUMMARY:Ski Thursday with Ted and Friends
DESCRIPTION:This week’s ski tour will be a leisurely easy intermediate le
 vel ski\, less than about 8 miles. Based on the current weather forecast\,
  we will ski at Old Man's Pass or Atkisson Snow Park in Washington\, but i
 f conditions are not appropriate\, we will go to Mt. Hood. There mostly su
 nny weather forecast for Thursday forecast. An updated forum post and emai
 l will be sent on Wednesday.\n\nTour Date: Thursday\, January 26\, 2023\n\
 nMeeting Place &amp\; Time: Meet at Gateway Park and Ride\, Main floor\, S
 E corner to depart promptly at 8:30 AM. We will re-park our cars and carpo
 ol from here\, promptly at 8:30 a.m.\n\nPlease RSVP to Ted Scheinman\,&nbs
 p\;tedskier@gmail.com\, phone or text\, 503-914-9584 AND be sure to regist
 er with ONC-PDX.org on the website under Day Tours (no need to be a member
  to sign up for day trips).
CATEGORIES:Cross Country Ski,Day Tours
LOCATION:Gateway Park and Ride\, NE 99th Ave\, Portland\, United States
GEO:45.532134;-122.562351
X-APPLE-STRUCTURED-LOCATION;VALUE=URI;X-ADDRESS=NE 99th Ave\, Portland\, Un
 ited States;X-APPLE-RADIUS=100;X-TITLE=Gateway Park and Ride:geo:45.532134
 ,-122.562351
END:VEVENT
BEGIN:VTIMEZONE
TZID:America/Los_Angeles
X-LIC-LOCATION:America/Los_Angeles
BEGIN:STANDARD
DTSTART:20221106T010000
TZOFFSETFROM:-0700
TZOFFSETTO:-0800
TZNAME:PST
END:STANDARD
END:VTIMEZONE
END:VCALENDAR