BEGIN:VCALENDAR
VERSION:2.0
PRODID:-//wp-events-plugin.com//7.0.5//EN
TZID:America/Los_Angeles
X-WR-TIMEZONE:America/Los_Angeles
BEGIN:VEVENT
UID:1201@onc-pdx.org
DTSTART;TZID=America/Los_Angeles:20250116T090000
DTEND;TZID=America/Los_Angeles:20250116T170000
DTSTAMP:20250113T153951Z
URL:https://onc-pdx.org/events/ski-thursday-with-ted-and-friends-thursday-
 january-16/
SUMMARY:Ski Thursday with Ted and Friends\, Thursday\, January 16
DESCRIPTION:Let's ski this Thursday!  We will have a leisurely\, easy inte
 rmediate ski tour\, no more than 6 miles\, either at Mt. Hood or SW Washin
 gton\, depending on conditions.\n\nMeet at Gateway Park &amp\; Ride Garage
 \, 1249 NE 99th Ave\, Portland\, OR 97220\, main floor\, SE corner near th
 e bike racks facing Fred Meyer.  Please arrive in time to arrange carpool
 s and be ready to depart at 9:00 AM SHARP!\n\nPlease register by clicking 
 on the website\, ONC-PDX.org\, Activities and Events\, click on the date\,
  and sign up.  This allows me to communicate with you and have all the re
 quired paperwork done in advance. You do NOT need to be a member to regist
 er and participate and we welcome any and all newcomers.\n\nPlease review 
 the expectations for day tours on the ONC-PDX website.  Because the snow 
 conditions are rather variable\, I will post in the ONC-PDX forum the spec
 ific location on Wednesday night as well as email those who have RSVP'd.\n
 \nThere is not expected to be much new snow this week\, but the weather se
 ems good for Thursday.  I  hope that it should warm up by the time we ge
 t to our ski location and the snow will be softer.\n\nPlease contact me if
  you have any questions or you need help signing up.  My  email is tedsk
 ier@gmail.com or phone 503-914-9584.
CATEGORIES:Cross Country Ski,Day Tours
LOCATION:Gateway Park & Ride Garage\, 1249 NE 99th Ave\, Portland\, OR\, 97
 220\, United States
X-APPLE-STRUCTURED-LOCATION;VALUE=URI;X-ADDRESS=1249 NE 99th Ave\, Portland
 \, OR\, 97220\, United States;X-APPLE-RADIUS=100;X-TITLE=Gateway Park & Ri
 de Garage:geo:0,0
END:VEVENT
BEGIN:VTIMEZONE
TZID:America/Los_Angeles
X-LIC-LOCATION:America/Los_Angeles
BEGIN:STANDARD
DTSTART:20241103T010000
TZOFFSETFROM:-0700
TZOFFSETTO:-0800
TZNAME:PST
END:STANDARD
END:VTIMEZONE
END:VCALENDAR