BEGIN:VCALENDAR
VERSION:2.0
PRODID:-//wp-events-plugin.com//7.0.5//EN
TZID:America/Los_Angeles
X-WR-TIMEZONE:America/Los_Angeles
BEGIN:VEVENT
UID:1013@onc-pdx.org
DTSTART;TZID=America/Los_Angeles:20230202T083000
DTEND;TZID=America/Los_Angeles:20230202T170000
DTSTAMP:20230129T184549Z
URL:https://onc-pdx.org/events/ski-thursday-with-ted-and-friends-thur-feb-
 2-830-am/
SUMMARY:Ski Thursday with Ted and Friends\, Thur\, Feb 2\, 8:30 AM
DESCRIPTION:Tour Title: Ski Thursday with Ted &amp\; Friends\, Thursday\, F
 ebruary 2\, 8:30 AM.&nbsp\; The series of ski tours continues! Even on Gro
 undhog Day!\n\nDescription: We will have a leisurely\, easy intermediate s
 ki tour\, no more than 8 miles\, either at Mt. Hood or SW Washington\, dep
 ending on conditions. I will post in the forum the specific location on We
 dnesday night.\n\nTour Difficulty: Intermediate\nTour Date: Thursday\, Feb
 ruary 2\, 2022\nMeeting Time and Place: Gateway Park &amp\; Ride Parking G
 arage\, first floor\, SE corner near the bike racks. Please arrive in time
  for carpool arrangements to leave a 8:30 AM!&nbsp\; This location is safe
 r since there are 5 security people who watch the place.Tour Leader\n\nLea
 der &amp\; Leader Contact Info: Ted Scheinmam&nbsp\; email: tedskier@gmail
 .com cell: 503-914-9584\n\nPlease register on the ONC-PDX website\, under 
 day tours\, so we can communicate with you and have all the required paper
 work done in advance. You do NOT need to be a member to register and parti
 cipate - we welcome any and all newcomers to experienced\, but the trip is
  planned to be easy!\n\nNOTE: Looking ahead\, I am looking for a substitut
 e for next week (February 9) as I will be on an overnight ski trip. Please
  contact me if willing to help out.
CATEGORIES:Cross Country Ski,Day Tours
END:VEVENT
BEGIN:VTIMEZONE
TZID:America/Los_Angeles
X-LIC-LOCATION:America/Los_Angeles
BEGIN:STANDARD
DTSTART:20221106T010000
TZOFFSETFROM:-0700
TZOFFSETTO:-0800
TZNAME:PST
END:STANDARD
END:VTIMEZONE
END:VCALENDAR