BEGIN:VCALENDAR
VERSION:2.0
PRODID:-//wp-events-plugin.com//7.0.5//EN
TZID:America/Los_Angeles
X-WR-TIMEZONE:America/Los_Angeles
BEGIN:VEVENT
UID:1004@onc-pdx.org
DTSTART;TZID=America/Los_Angeles:20230105T083000
DTEND;TZID=America/Los_Angeles:20230105T170000
DTSTAMP:20230103T202732Z
URL:https://onc-pdx.org/events/ski-thursday-with-ted-and-friends-january-5
 -2023-830-am-first-of-the-new-year/
SUMMARY:Ski Thursday with Ted and Friends\, January 5\, 2023\, 8:30 AM. Fir
 st of the New Year!
DESCRIPTION:Tour Title: Ski Thursday with Ted and Friends\, January 5\, 202
 3\, 8:30 AM. First of the New Year!\n\nDescription: We will select the des
 tination based on conditions – either Mt. Hood or SW Washington. This we
 ek\, we plan to ski the Atkisson ski trails in Mt. Adams Ranger District\,
  but if conditions do not warrant it\, we will ski Bennett Pass Road or Po
 cket Creek on Mt\, Hood. I will post a forum on Wednesday night on specifi
 c location.\n\nTour Difficulty: The ski tour will be a leisurely intermedi
 ate level ski\, less than about 8 miles.\n\nTour Date\; Thursday\, January
  5\, 2023\n\nMeeting Place &amp\; Time: Meet at Gateway Park and Ride\, Ma
 in floor\, SE corner to depart promptly at 8:30 AM. We will re-park our ca
 rs and carpool from here\, promptly at 8:30\n\nLeader: Ted Scheinman – C
 ontact Info: tedskier@gmail.com\, phone or text\, 503-914-9584\n\nPlease R
 SVP to Ted Scheinman\, tedskier@gmail.com\, phone or text\, 503-914-9584 A
 ND be sure to register with ONC-PDX on the website under Day Tours (no nee
 d to be a member for day trips).
CATEGORIES:Cross Country Ski,Day Tours
END:VEVENT
BEGIN:VTIMEZONE
TZID:America/Los_Angeles
X-LIC-LOCATION:America/Los_Angeles
BEGIN:STANDARD
DTSTART:20221106T010000
TZOFFSETFROM:-0700
TZOFFSETTO:-0800
TZNAME:PST
END:STANDARD
END:VTIMEZONE
END:VCALENDAR