BEGIN:VCALENDAR
VERSION:2.0
PRODID:-//wp-events-plugin.com//7.0.5//EN
TZID:America/Los_Angeles
X-WR-TIMEZONE:America/Los_Angeles
BEGIN:VEVENT
UID:1005@onc-pdx.org
DTSTART;TZID=America/Los_Angeles:20230112T083000
DTEND;TZID=America/Los_Angeles:20230112T170000
DTSTAMP:20230103T220812Z
URL:https://onc-pdx.org/events/ski-thursday-with-ted-and-friends-january-1
 2-2023-830-am/
SUMMARY:Ski Thursday with Ted and Friends\, January 12\, 2023\, 8:30 AM.
DESCRIPTION:Tour Title: Ski Thursday with Ted and Friends\, January 12\, 20
 23\, 8:30 AM.\n\nDescription: We will select the destination based on cond
 itions – either Mt. Hood or SW Washington. I will post a forum notice on
  Wednesday night on specific location.\n\nTour Difficulty: The ski tour wi
 ll be a leisurely intermediate level ski\, less than about 8 miles.\n\nTou
 r Date\; Thursday\, January12\, 2023\n\nMeeting Place &amp\; Time: Meet at
  Gateway Park and Ride\, Main floor\, SE corner to depart promptly at 8:30
  AM. We will re-park our cars and carpool from here\, promptly at 8:30\n\n
 Leader: Ted Scheinman – Contact Info: tedskier@gmail.com\, phone: 503-91
 4-9584.\n\nPlease RSVP to Ted Scheinman\, tedskier@gmail.com\, phone or te
 xt\, 503-914-9584 AND be sure to register with ONC-PDX on the website unde
 r Day Tours (no need to be a member for day trips).
CATEGORIES:Cross Country Ski,Day Tours
END:VEVENT
BEGIN:VTIMEZONE
TZID:America/Los_Angeles
X-LIC-LOCATION:America/Los_Angeles
BEGIN:STANDARD
DTSTART:20221106T010000
TZOFFSETFROM:-0700
TZOFFSETTO:-0800
TZNAME:PST
END:STANDARD
END:VTIMEZONE
END:VCALENDAR