BEGIN:VCALENDAR
VERSION:2.0
PRODID:-//wp-events-plugin.com//7.0.5//EN
TZID:America/Los_Angeles
X-WR-TIMEZONE:America/Los_Angeles
BEGIN:VEVENT
UID:1220@onc-pdx.org
DTSTART;TZID=America/Los_Angeles:20250306T090000
DTEND;TZID=America/Los_Angeles:20250306T170000
DTSTAMP:20250224T235350Z
URL:https://onc-pdx.org/events/ski-thursday-with-ted-and-friends-6/
SUMMARY:Ski Thursday with Ted and Friends
DESCRIPTION:Note - this is a placeholder for now. Ted is trying to lead the
 se tours every Thursday. Some weeks we may not have the tour due to Ted's 
 availability or weather.  We'll update this once confirmed.\n\n&nbsp\;\n\
 nLet's ski this Thursday!  We will have a leisurely\, easy intermediate s
 ki tour\, no more than 6 miles\, either at Mt. Hood or SW Washington\, dep
 ending on conditions.\n\nMeet at Gateway Park &amp\; Ride Garage\, 1249 NE
  99th Ave\, Portland\, OR 97220\, main floor\, SE corner near the bike rac
 ks facing Fred Meyer.  Please arrive in time to arrange carpools and be r
 eady to depart at 9:00 AM SHARP!\n\nPlease register for the tour here. Thi
 s allows me to communicate with you and have all the required paperwork do
 ne in advance. You do NOT need to be a member to register and participate 
 and we welcome any and all newcomers.\n\nPlease review the expectations fo
 r day tours on the ONC-PDX website.  Because the snow conditions are rath
 er variable\, I will post in the ONC-PDX forum the specific location on We
 dnesday night as well as email those who have RSVP'd.\n\nPlease contact me
  if you have any questions or you need help signing up.  My  email is te
 dskier@gmail.com or phone 503-914-9584.
CATEGORIES:Cross Country Ski,Day Tours
LOCATION:Gateway Park & Ride Garage\, 1249 NE 99th Ave\, Portland\, OR\, 97
 220\, United States
X-APPLE-STRUCTURED-LOCATION;VALUE=URI;X-ADDRESS=1249 NE 99th Ave\, Portland
 \, OR\, 97220\, United States;X-APPLE-RADIUS=100;X-TITLE=Gateway Park & Ri
 de Garage:geo:0,0
END:VEVENT
BEGIN:VTIMEZONE
TZID:America/Los_Angeles
X-LIC-LOCATION:America/Los_Angeles
BEGIN:STANDARD
DTSTART:20241103T010000
TZOFFSETFROM:-0700
TZOFFSETTO:-0800
TZNAME:PST
END:STANDARD
END:VTIMEZONE
END:VCALENDAR