BEGIN:VCALENDAR
VERSION:2.0
PRODID:-//wp-events-plugin.com//7.0.5//EN
TZID:America/Los_Angeles
X-WR-TIMEZONE:America/Los_Angeles
BEGIN:VEVENT
UID:1008@onc-pdx.org
DTSTART;TZID=America/Los_Angeles:20230119T083000
DTEND;TZID=America/Los_Angeles:20230119T170000
DTSTAMP:20230117T235647Z
URL:https://onc-pdx.org/events/ski-thursday-with-ted-and-friend/
SUMMARY:Ski Thursday with Ted and Friends
DESCRIPTION:We will select the destination based on conditions – either M
 t. Hood or SW Washington. I will post a forum notice on Wednesday night on
  specific location. This is an intermediate ski\n\nPlease RSVP to Ted Sche
 inman\,&nbsp\;tedskier@gmail.com\, phone or text\, 503-914-9584 AND be sur
 e to register with ONC-PDX on the website under Day Tours (no need to be a
  member for day trips).\n\nMeet at Gateway Park and Ride\, Main floor insi
 de\, SE corner. We will re-park our cars and carpool from here\, promptly 
 at 8:30 am.
CATEGORIES:Cross Country Ski,Day Tours
LOCATION:Gateway Park and Ride\, NE 99th Ave\, Portland\, United States
GEO:45.532134;-122.562351
X-APPLE-STRUCTURED-LOCATION;VALUE=URI;X-ADDRESS=NE 99th Ave\, Portland\, Un
 ited States;X-APPLE-RADIUS=100;X-TITLE=Gateway Park and Ride:geo:45.532134
 ,-122.562351
END:VEVENT
BEGIN:VTIMEZONE
TZID:America/Los_Angeles
X-LIC-LOCATION:America/Los_Angeles
BEGIN:STANDARD
DTSTART:20221106T010000
TZOFFSETFROM:-0700
TZOFFSETTO:-0800
TZNAME:PST
END:STANDARD
END:VTIMEZONE
END:VCALENDAR