BEGIN:VCALENDAR
VERSION:2.0
PRODID:-//wp-events-plugin.com//7.0.5//EN
TZID:America/Los_Angeles
X-WR-TIMEZONE:America/Los_Angeles
BEGIN:VEVENT
UID:1230@onc-pdx.org
DTSTART;TZID=America/Los_Angeles:20250319T084500
DTEND;TZID=America/Los_Angeles:20250319T170000
DTSTAMP:20250312T225655Z
URL:https://onc-pdx.org/events/ski-teacup-groomed-trails/
SUMMARY:Ski Teacup Groomed Trails
DESCRIPTION:Let's ski Teacup!  This trip on groomed trails is an all abili
 ty ski but I will gear it to any beginners who come.\n\nPlease register fo
 r the tour below.   Meet at Old Town Troutdale behind the row of shops.
   Please arrive in time to arrange carpools and be ready to depart at 9:0
 0 AM SHARP!\n\nPlease review the expectations for day tours on the ONC-PDX
  website.\n\nPlease contact me if you have any questions or you need help 
 signing up.  My  email is hepomp8@comcast.net or phone 503-442-0620.\n\n
 There is a $25 fee for skiing Teacup trails
CATEGORIES:Cross Country Ski,Day Tours
LOCATION:Oldtown Troutdale (next to railroad tracks)\, 101 Historic Columbi
 a River Hwy.\, Troutdale\, OR\, 97060\, United States
X-APPLE-STRUCTURED-LOCATION;VALUE=URI;X-ADDRESS=101 Historic Columbia River
  Hwy.\, Troutdale\, OR\, 97060\, United States;X-APPLE-RADIUS=100;X-TITLE=
 Oldtown Troutdale (next to railroad tracks):geo:0,0
END:VEVENT
BEGIN:VTIMEZONE
TZID:America/Los_Angeles
X-LIC-LOCATION:America/Los_Angeles
BEGIN:DAYLIGHT
DTSTART:20250309T030000
TZOFFSETFROM:-0800
TZOFFSETTO:-0700
TZNAME:PDT
END:DAYLIGHT
END:VTIMEZONE
END:VCALENDAR