BEGIN:VCALENDAR
VERSION:2.0
PRODID:-//wp-events-plugin.com//7.0.5//EN
TZID:America/Los_Angeles
X-WR-TIMEZONE:America/Los_Angeles
BEGIN:VEVENT
UID:992@onc-pdx.org
DTSTART;TZID=America/Los_Angeles:20230201T103000
DTEND;TZID=America/Los_Angeles:20230201T163000
DTSTAMP:20230123T221043Z
URL:https://onc-pdx.org/events/ski-orienteering-at-teacup-nordic-center/
SUMMARY:Ski Orienteering at Teacup Nordic Center
DESCRIPTION:Description: Ski Orienteering using a Map and Compass on the Te
 acup Nordic Trails\; Skate or Classic skiing.\nSki Level: Beginner - Advan
 ced\; Skate or Classic skiing\nDate: Wednesday\, February 1\, 2023\n\nMeet
 ing Time &amp\; Place: 10:30 AM at Teacup Nordic Center\nCourse start wind
 ow runs 11 AM until noon\nCourse closes at 1:30 PM for the event.&nbsp\; Y
 ou are free to ski on your own before and after the event.\n\nRegistration
  Link:&nbsp\; https://www.webscorer.com/register?raceid=301599\nCosts:\n\n
  	Teacup Member - $15 Covers E- Stick Rental and Maps and training\n 	CROC
  Member with own E- Stick - $20 Covers Teacup Fee and Maps and training\n 
 	ONC Member - $25 or&nbsp\; a team of two for $30 - Covers Rental of E-Sti
 ck\, Teacup Fee and Maps\n\nSnow Park Pass Required\n\nTour Leader: Ken We
 nzel\, skiwenzel@hotmail.com Cell - 503-729-6571&nbsp\; &nbsp\; Home Phone
  503-297-2958
CATEGORIES:Cross Country Ski,Day Tours,Skate Ski,Training
END:VEVENT
BEGIN:VTIMEZONE
TZID:America/Los_Angeles
X-LIC-LOCATION:America/Los_Angeles
BEGIN:STANDARD
DTSTART:20221106T010000
TZOFFSETFROM:-0700
TZOFFSETTO:-0800
TZNAME:PST
END:STANDARD
END:VTIMEZONE
END:VCALENDAR