BEGIN:VCALENDAR
VERSION:2.0
PRODID:-//wp-events-plugin.com//7.0.5//EN
TZID:America/Los_Angeles
X-WR-TIMEZONE:America/Los_Angeles
BEGIN:VEVENT
UID:1299@onc-pdx.org
DTSTART;TZID=America/Los_Angeles:20260129T084500
DTEND;TZID=America/Los_Angeles:20260129T171500
DTSTAMP:20260126T063653Z
URL:https://onc-pdx.org/events/ski-mt-hood-meadows-nordic-trails/
SUMMARY:Ski Mt Hood Meadows Nordic Trails
DESCRIPTION:Several of us skied Teacup this past Friday and the trails were
  great. I would like to try skiing the Mt Hood Meadows Nordic trails this 
 coming Thursday. There is some chance of precipitation (hopefully the dry\
 , white kind) next week. We will meet in Troutdale at 8:45 am to arrange c
 arpools with departure no later than 9. Bring $ for trail frees and gas mo
 ney.\n\n&nbsp\;\n\nLeader: Mary Hepokoski\nEmail: hepomp8@comcast.net\n\nM
 obile: 503442/0620\n\nTour difficulty: Beginner\nMeeting time/Place: Old t
 own Troutdale (behind shops) at 8:45\nDogs allowed: No
CATEGORIES:Cross Country Ski,Day Tours
LOCATION:Oldtown Troutdale (next to railroad tracks)\, 101 Historic Columbi
 a River Hwy.\, Troutdale\, OR\, 97060\, United States
X-APPLE-STRUCTURED-LOCATION;VALUE=URI;X-ADDRESS=101 Historic Columbia River
  Hwy.\, Troutdale\, OR\, 97060\, United States;X-APPLE-RADIUS=100;X-TITLE=
 Oldtown Troutdale (next to railroad tracks):geo:0,0
END:VEVENT
BEGIN:VTIMEZONE
TZID:America/Los_Angeles
X-LIC-LOCATION:America/Los_Angeles
BEGIN:STANDARD
DTSTART:20251102T010000
TZOFFSETFROM:-0700
TZOFFSETTO:-0800
TZNAME:PST
END:STANDARD
END:VTIMEZONE
END:VCALENDAR