BEGIN:VCALENDAR
VERSION:2.0
PRODID:-//wp-events-plugin.com//7.0.5//EN
TZID:America/Los_Angeles
X-WR-TIMEZONE:America/Los_Angeles
BEGIN:VEVENT
UID:917@onc-pdx.org
DTSTART;TZID=America/Los_Angeles:20220316T080000
DTEND;TZID=America/Los_Angeles:20220316T163000
DTSTAMP:20220314T061516Z
URL:https://onc-pdx.org/events/ski-crosstown-camp-creek-trail-or-bennett-p
 ass-depending-on-conditions-wed-3-16/
SUMMARY:Ski Crosstown / Camp Creek Trail or Bennett Pass depending on Condi
 tions  (Wed 3/16)
DESCRIPTION:Tour Title\, Description: I plan on skiing Wednesday 3/16 at Ei
 ther Crosstown / Camp Creek Trail or Bennett Pass depending on Freezing Le
 vel and Snow Conditions. Planning on a 6-8 mile tour. Returning to PDX by 
 4:30 PM\n\nTour Difficulty:  Beginning\nTour Date: Wednesday\, March 16\,
  2022\nMeeting Time and Place: 8 AM at Troutdale Mall in center of Parking
  Lot by Starbucks. Advise if you can drive. \n\nDogs allowed? NO\n\nCo-lea
 der Needed? YES\nLeader: KenWenzel\nLeader Contact Info: skiwenzel@hotmail
 .com\, Cell 503-729-6571
CATEGORIES:Cross Country Ski,Day Tours
END:VEVENT
BEGIN:VTIMEZONE
TZID:America/Los_Angeles
X-LIC-LOCATION:America/Los_Angeles
BEGIN:DAYLIGHT
DTSTART:20220313T030000
TZOFFSETFROM:-0800
TZOFFSETTO:-0700
TZNAME:PDT
END:DAYLIGHT
END:VTIMEZONE
END:VCALENDAR