BEGIN:VCALENDAR
VERSION:2.0
PRODID:-//wp-events-plugin.com//7.0.5//EN
TZID:America/Los_Angeles
X-WR-TIMEZONE:America/Los_Angeles
BEGIN:VEVENT
UID:656@onc-pdx.org
DTSTART;TZID=America/Los_Angeles;VALUE=DATE:20200313
DTEND;TZID=America/Los_Angeles;VALUE=DATE:20200316
DTSTAMP:20200307T150521Z
URL:https://onc-pdx.org/events/sisters-hut-to-hut-in-march-2020/
SUMMARY:Sisters Backcountry Hut-Hut in March
DESCRIPTION:Friday\, Mar. 13 thru Sunday\, Mar. 15Deschutes National Forest
 \, ORAdvanced-Intermediate Backcountry SkiThis is a 22 mile Hut to Hut tou
 r from Dutchman Flat near Mt Bachelor to Three Creeks Sno Park near Sister
 s. The route roughly follows the historic Metolius Windigo Trail at 6500
 ’\, on the eastern edge of the Three Sisters Wilderness area. We meet ou
 r shuttle Friday at 8:00 am at Three Creeks Snopark and shuttle to Dutchma
 n Flat\, where we start the tour. Friday &amp\; Saturday nights will be sp
 ent in huts along the route and Sunday evening we will drive home from Thr
 ee Creeks. The terrain is ungroomed\, rolling to gentle slopes with some s
 teeper climbs. The two huts are fully stocked with food\, cooking equipmen
 t\, wood stove\, &amp\; bunks. They provide sleeping bags as well\; so you
  only need to carry a bag liner and your personal gear and clothing!&nbsp\
 ; We can’t anticipate the weather so the snow conditions can vary from u
 ntracked powder to icy and anything in-between.Equipment needed are metal 
 edge skis\, preferably a backcountry ski &amp\; boot. Skins are not requir
 ed but can be useful depending on conditions. Classic narrow nordic skis a
 re not really suitable but that depends on the ability of the skier. Kicke
 r skins are recommended in that case. Good physical condition is needed to
  ski the distance\, climb the hills\, and keep up with a group.For what is
  provided and photos of the huts\, use this link:&nbsp\; http://threesiste
 rsbackcountry.com/huts/nordic-traverse-huts/The distance between huts is o
 nly 8 miles average\, which leaves time for additional skiing\, exploring\
 , or relaxing in the huts.This trip begins early on Friday morning with a 
 shuttle so you need to be in Sisters the night before. Carpooling will be 
 arranged and shared lodging can also be coordinated among the group but th
 at will be an additional expense.&nbsp\; We usually rent rooms at the Best
  Western in Sisters which comes with a hearty breakfast included.Cost incl
 udes a shuttle\, two nights in huts\, food for 2 days &amp\; 2 nights with
  beer included!&nbsp\; Additional expenses will be carpool transportation 
 expense and food &amp\; lodging in Sisters Thursday night.Trip limit:&nbsp
 \; 8 participants including trip leader.Cost: $340/member\, per person.&nb
 sp\; Includes 2 nights lodging.Carpool miles:&nbsp\; 320 miles roundtrip f
 rom Portland.Trip Leader:&nbsp\; Susan Watt\, susniam@gmail.com
CATEGORIES:Cross Country Ski
END:VEVENT
BEGIN:VTIMEZONE
TZID:America/Los_Angeles
X-LIC-LOCATION:America/Los_Angeles
BEGIN:DAYLIGHT
DTSTART:20200308T030000
TZOFFSETFROM:-0800
TZOFFSETTO:-0700
TZNAME:PDT
END:DAYLIGHT
END:VTIMEZONE
END:VCALENDAR