BEGIN:VCALENDAR
VERSION:2.0
PRODID:-//wp-events-plugin.com//7.0.5//EN
TZID:America/Los_Angeles
X-WR-TIMEZONE:America/Los_Angeles
BEGIN:VEVENT
UID:1260@onc-pdx.org
DTSTART;TZID=America/Los_Angeles;VALUE=DATE:20260317
DTEND;TZID=America/Los_Angeles;VALUE=DATE:20260320
DTSTAMP:20251020T181200Z
URL:https://onc-pdx.org/events/sisters-backcountry-yurts-2026/
SUMMARY:Sisters Backcountry Yurts
DESCRIPTION:Sisters\, OR\nMarch 17 - 19\, 2026\, Tue - Thu\nIntermediate an
 d Advanced - non-groomed Backcountry Nordic\n\nMust be an intermediate ski
 er or above who can carry a daypack with all the essentials.\n\nNordic bac
 kcountry skis with metal edges\, backcountry boots\, and poles are require
 d.\n\nBe comfortable for 3 days and 2 nights with minimal privacy in one s
 hared coed cabin with bunk beds and an external pit toilet. Breakfasts and
  dinners will be communal.\n\nCost includes 3 days and 2 nights. Not inclu
 ded in the base cost: possible stay in Sisters the night before\, Sno-Park
  pass\, ski rentals if needed\, food\, and transportation (other than the 
 snowmobile shuttle for gear and anyone who chooses to ride to the yurt). C
 arpools are encouraged.\n\nA pre-trip planning meeting will be held via Zo
 om.\n\nFor a full description of the trip see: https://www.threesistersbac
 kcountry.com/tam-rim-alpine-yurts\n\nIf you have questions before deciding
  if this is right for you\, feel free to email me.\n\nTrip limit:  6 part
 icipants including trip leader\nCost:  $360 per member/person plus items 
 not included as noted above.\nTravel miles:  From Portland\, 340 miles ro
 und trip\nTrip Leader:  Mary Hepokoski\, hepomp8@comcast.net
CATEGORIES:Backcountry Ski/Telemarking,Cross Country Ski
END:VEVENT
BEGIN:VTIMEZONE
TZID:America/Los_Angeles
X-LIC-LOCATION:America/Los_Angeles
BEGIN:DAYLIGHT
DTSTART:20260308T030000
TZOFFSETFROM:-0800
TZOFFSETTO:-0700
TZNAME:PDT
END:DAYLIGHT
END:VTIMEZONE
END:VCALENDAR