BEGIN:VCALENDAR
VERSION:2.0
PRODID:-//wp-events-plugin.com//7.0.5//EN
TZID:America/Los_Angeles
X-WR-TIMEZONE:America/Los_Angeles
BEGIN:VEVENT
UID:1212@onc-pdx.org
DTSTART;TZID=America/Los_Angeles:20250201T070000
DTEND;TZID=America/Los_Angeles:20250201T170000
DTSTAMP:20250129T220958Z
URL:https://onc-pdx.org/events/sights-on-gunsight-advanced-day-tour/
SUMMARY:Sights on Gunsight - Advanced Day Tour
DESCRIPTION:This is my current fav tour on Mt. Hood. We skin/boot up the Gu
 mjuwac trail and then head into even more remote areas as we traverse Guns
 ight ridge before finally dropping into Pocket creek for a fast return. Em
 ail me or sign up an I’ll send a detailed info packet.\n\nLeader: Scott 
 Diamond\n\nEmail: scott.diamond.mail@gmail.com\nDogs allowed: No\nCost: Pl
 an on $15-$20/skier for carpool cost
CATEGORIES:Cross Country Ski,Day Tours
LOCATION:Oldtown Troutdale (next to railroad tracks)\, 101 Historic Columbi
 a River Hwy.\, Troutdale\, OR\, 97060\, United States
X-APPLE-STRUCTURED-LOCATION;VALUE=URI;X-ADDRESS=101 Historic Columbia River
  Hwy.\, Troutdale\, OR\, 97060\, United States;X-APPLE-RADIUS=100;X-TITLE=
 Oldtown Troutdale (next to railroad tracks):geo:0,0
END:VEVENT
BEGIN:VTIMEZONE
TZID:America/Los_Angeles
X-LIC-LOCATION:America/Los_Angeles
BEGIN:STANDARD
DTSTART:20241103T010000
TZOFFSETFROM:-0700
TZOFFSETTO:-0800
TZNAME:PST
END:STANDARD
END:VTIMEZONE
END:VCALENDAR