BEGIN:VCALENDAR
VERSION:2.0
PRODID:-//wp-events-plugin.com//7.0.5//EN
TZID:America/Los_Angeles
X-WR-TIMEZONE:America/Los_Angeles
BEGIN:VEVENT
UID:835@onc-pdx.org
DTSTART;TZID=America/Los_Angeles;VALUE=DATE:20220211
DTEND;TZID=America/Los_Angeles;VALUE=DATE:20220215
DTSTAMP:20211013T001839Z
URL:https://onc-pdx.org/events/shelter-cove-resort-weekend/
SUMMARY:Shelter Cove Resort Weekend
DESCRIPTION:Trip Rating: All Abilities Ski\nBasecamp:&nbsp\; Odell Lake\, O
 R Cascades\n\nHigh up in the Cascades east of Eugene lies Willamette Pass 
 and the beautiful Odell Lake. Odell Lake is situated at 4\,800 feet\, so t
 here is plenty of snow plus great scenery. We will stay in the Kokanee Lod
 ge C and D units at Shelter Cove Resort.&nbsp\; Each unit comfortably slee
 ps 6 with one king room\, one queen\, and a&nbsp\; room with bunkbeds.&nbs
 p\; Beautiful views right on the shore of Odell Lake. \n\nThere are a numb
 er of good ski routes near the Pengra ski area\, the trails to Gold Lake\,
  smaller trails right around Shelter Cove Resort\, and the incredible Makl
 aks loops. Willamette Pass Ski Area has 22 km of beautifully groomed trail
 s\, however there are trail fees. Come experience a real winter in this be
 autiful snow-laden resort on a gorgeous high mountain lake. \n\nWe will po
 tluck on Saturday and Sunday evenings. On Friday you can eat in on your ow
 n\, or there are restaurants in Oakridge on your way and a couple small co
 untry pubs within 10 miles of the resort. Bring your own breakfast and lun
 ch foods. The kitchen comes equipped with most items and includes a microw
 ave\, but some supplies could be in short supply.&nbsp\;\n\nTrip Limit:&nb
 sp\; 12 participants including trip leaders\nCost: $180/member\, per perso
 n. Includes 3 nights lodging.&nbsp\; Excludes cost of travel and meals.&nb
 sp\;\nCarpool miles:&nbsp\; 360 miles roundtrip from Portland\, plus excur
 sions to trailheads.\nTrip Leaders:&nbsp\; Steve and Shannon Planchon\, sc
 planchon@gmail.com and shannon.planchon@gmail.com
CATEGORIES:Cross Country Ski
END:VEVENT
BEGIN:VTIMEZONE
TZID:America/Los_Angeles
X-LIC-LOCATION:America/Los_Angeles
BEGIN:STANDARD
DTSTART:20211107T010000
TZOFFSETFROM:-0700
TZOFFSETTO:-0800
TZNAME:PST
END:STANDARD
END:VTIMEZONE
END:VCALENDAR