BEGIN:VCALENDAR
VERSION:2.0
PRODID:-//wp-events-plugin.com//7.0.5//EN
TZID:America/Los_Angeles
X-WR-TIMEZONE:America/Los_Angeles
BEGIN:VEVENT
UID:964@onc-pdx.org
DTSTART;TZID=America/Los_Angeles;VALUE=DATE:20230209
DTEND;TZID=America/Los_Angeles;VALUE=DATE:20230213
DTSTAMP:20221020T025550Z
URL:https://onc-pdx.org/events/shelter-cove-resort-weekend-2/
SUMMARY:Shelter Cove Resort Weekend
DESCRIPTION:Odell Lake\, OR Cascades\nFeb. 9-12\, Thu-Sun\nAll Abilities Sk
 i\; We will likely have some on snowshoes too!\n\n\nHigh up in the Cascade
 s east of Eugene lies Willamette Pass and the beautiful Odell Lake. Odell 
 Lake is situated at 4\,800 feet\, so there is plenty of snow plus great sc
 enery. We will stay in the Kokanee Lodge C and D units at Shelter Cove Res
 ort.&nbsp\; Each unit comfortably sleeps 6 with one king room\, one queen\
 , and a&nbsp\; room with bunk beds.&nbsp\; Beautiful views right on the sh
 ore of Odell Lake.&nbsp\;\n\nThere are a number of good ski routes near th
 e Pengra ski area\, the trails to Gold Lake\, smaller trails right around 
 Shelter Cove Resort\, and the incredible Maklaks loops. It’s possible to
  ski up to the Pacific Crest Trail and visit the Maiden Peak Cabin. Willam
 ette Pass Ski Area has 22 km of groomed XC trails as well as lift skiing\,
  trail fees required. We have had snow up to our hips at this resort on pa
 st trips on a gorgeous high mountain lake\, just three hours from Portland
 .&nbsp\;\n\nWe will eat at a local restaurant on arrival night\, Thursday.
  You can also BYO dinner and use the kitchen.&nbsp\; On Friday we will org
 anize a potluck and do the&nbsp\; same for Saturday if that’s group cons
 ensus. There are restaurants in Oakridge on your way \,and pubs within 10 
 miles of the resort. Bring your own breakfast and lunch foods. The kitchen
  comes equipped with most items and includes a microwave\, but some suppli
 es could be in short supply so if you need it bring it.\n\nFor scenes of a
  past trip\, click here.\n\nTrip Limit:&nbsp\; 12 participants including t
 rip leaders\nCost: $180/member\, per person. Includes 3 nights lodging.&nb
 sp\; Excludes cost of travel and meals\nCarpool miles:&nbsp\; 360 miles ro
 und trip from Portland\, plus excursions to trailheads\nTrip Leader:&nbsp\
 ; Russ Pascoe\, russ.bec@gmail.com\nCo-leader:&nbsp\; Becky McClain\, beck
 stermcc@gmail.com
CATEGORIES:Cross Country Ski,Skate Ski,Snowshoe
END:VEVENT
BEGIN:VTIMEZONE
TZID:America/Los_Angeles
X-LIC-LOCATION:America/Los_Angeles
BEGIN:STANDARD
DTSTART:20221106T010000
TZOFFSETFROM:-0700
TZOFFSETTO:-0800
TZNAME:PST
END:STANDARD
END:VTIMEZONE
END:VCALENDAR