BEGIN:VCALENDAR
VERSION:2.0
PRODID:-//wp-events-plugin.com//7.0.5//EN
TZID:America/Los_Angeles
X-WR-TIMEZONE:America/Los_Angeles
BEGIN:VEVENT
UID:29@onc-pdx.org
DTSTART;TZID=America/Los_Angeles;VALUE=DATE:20150313
DTEND;TZID=America/Los_Angeles;VALUE=DATE:20150316
DTSTAMP:20150306T212634Z
URL:https://onc-pdx.org/events/shelter-cove-resort-odell-lake/
SUMMARY:Shelter Cove Resort\, Odell Lake\, OR
DESCRIPTION:Join us for a stay on the west side of Odell Lake at the Shelte
 r Cove Resort. Odell Lake at 4\,800 feet is just over the top of Willamett
 e Pass beside Highway 58\, east of Eugene. A multitude of ski routes is av
 ailable for all levels\, from the groomed trails at the ski resort\, easy 
 trails to Gold Lake and Odell Lake\, and backcountry trails to Maiden Peak
 \, Rosary Lakes\, and Mt. Fuji.Our lodging will be in the Kokonee Lodge C.
  All bedding and towels are included. We’ll share potluck meals at night
 \, bring your own lunch and breakfast meals. There is no restaurant at the
  resort\, although there is one at Odell Lake Resort on the other side of 
 the lake. Come experience a real winter in the luxurious cabin on the shor
 es of Odell Lake. Trip limit: 8 participants\, including the leaderCost: 
 $85 per person\; you must be a current ONC member before signing up for th
 is trip.Contact leader for space availability.  Send your ONC overnight a
 pplication and $85 check payable to ONC-Portland Chapter to the trip leade
 r: Ted Magnusson\, 14405 SW High Tor Dr.\, Tigard\, OR 97224-1425.  Conta
 ct Ted at 503-590-7998 or tedmag@live.com. 
CATEGORIES:Backcountry Ski/Telemarking,Cross Country Ski,Skate Ski
END:VEVENT
BEGIN:VTIMEZONE
TZID:America/Los_Angeles
X-LIC-LOCATION:America/Los_Angeles
BEGIN:DAYLIGHT
DTSTART:20150308T030000
TZOFFSETFROM:-0800
TZOFFSETTO:-0700
TZNAME:PDT
END:DAYLIGHT
END:VTIMEZONE
END:VCALENDAR