BEGIN:VCALENDAR
VERSION:2.0
PRODID:-//wp-events-plugin.com//7.0.5//EN
TZID:America/Los_Angeles
X-WR-TIMEZONE:America/Los_Angeles
BEGIN:VEVENT
UID:843@onc-pdx.org
DTSTART;TZID=America/Los_Angeles;VALUE=DATE:20220215
DTEND;TZID=America/Los_Angeles;VALUE=DATE:20220219
DTSTAMP:20220201T173138Z
URL:https://onc-pdx.org/events/shelter-cove-resort-midweek/
SUMMARY:Shelter Cove Resort Midweek
DESCRIPTION:Trip Rating: All Abilities Ski\nBasecamp:&nbsp\; Odell Lake\, O
 R Cascades\n\nHigh up in the Cascades east of Eugene lies Willamette Pass 
 and the beautiful Odell Lake. Odell Lake is situated at 4\,800 feet\, so t
 here is plenty of snow plus great scenery. We will stay at Shelter Cove Re
 sort in the in the large two-unit Kokanee Lodge.&nbsp\; Each unit comforta
 bly sleeps 6 with one king room\, one queen\, and a&nbsp\; room with bunkb
 eds.&nbsp\; Beautiful views right on the shore of Odell Lake.\n\nThere are
  a number of good ski routes near the Pengra ski area\, the trails to Gold
  Lake\, smaller trails right around Shelter Cove Resort\, and the incredib
 le Maklaks loops. Willamette Pass Ski Area has 22 km of beautifully groome
 d trails\, however there are trail fees. Come experience a real winter in 
 this beautiful snow-laden resort on a gorgeous high mountain lake.\n\nTues
 day dinner is on your own. There are some restaurants on your way in Oakri
 dge and some small pubs and restaurants within 6-10 miles of the resort. T
 here are also some small pubs nearby. But check out hours of operation bef
 ore you leave. We will potluck on Wednesday and Thursday for dinner. All b
 reakfasts and lunches are on your own. The kitchens come equipped with mos
 t items and include microwaves but some supplies could be in short supply\
 , so bring if in doubt.\n\nTrip Limit:&nbsp\; 12 participants including tr
 ip leaders\nCost: $180/member\, per person. Includes 3 nights lodging.&nbs
 p\; Excludes cost of travel and meals.&nbsp\;\nCarpool miles:&nbsp\; 360 m
 iles roundtrip from Portland\, plus excursions to trailheads.\nTrip Leader
 :&nbsp\; Johanna Lovell\,&nbsp\; joeielove@yahoo.com
CATEGORIES:Cross Country Ski
END:VEVENT
BEGIN:VTIMEZONE
TZID:America/Los_Angeles
X-LIC-LOCATION:America/Los_Angeles
BEGIN:STANDARD
DTSTART:20211107T010000
TZOFFSETFROM:-0700
TZOFFSETTO:-0800
TZNAME:PST
END:STANDARD
END:VTIMEZONE
END:VCALENDAR