BEGIN:VCALENDAR
VERSION:2.0
PRODID:-//wp-events-plugin.com//7.0.5//EN
TZID:America/Los_Angeles
X-WR-TIMEZONE:America/Los_Angeles
BEGIN:VEVENT
UID:954@onc-pdx.org
DTSTART;TZID=America/Los_Angeles;VALUE=DATE:20230214
DTEND;TZID=America/Los_Angeles;VALUE=DATE:20230218
DTSTAMP:20230125T145750Z
URL:https://onc-pdx.org/events/shelter-cove-resort-midweek-2/
SUMMARY:Shelter Cove Resort Midweek
DESCRIPTION:Odell Lake\, OR Cascades\nFeb. 14-17\, Tue-Fri\nAll Abilities S
 ki\n\nHigh up in the Cascades east of Eugene lies Willamette Pass and the 
 beautiful Odell Lake. Odell Lake is situated at 4\,800 feet\, so there is 
 plenty of snow plus great scenery. We will stay in the Kokanee Lodge C and
  D units at Shelter Cove Resort.&nbsp\; Each unit comfortably sleeps 6 wit
 h one king room\, one queen\, and a&nbsp\; room with bunk beds.&nbsp\; Bea
 utiful views right on the shore of Odell Lake.&nbsp\;\n\nThere are a numbe
 r of good ski routes near the Pengra ski area\, the trails to Gold Lake\, 
 smaller trails right around Shelter Cove Resort\, and the incredible Makla
 ks loops. Willamette Pass Ski Area has 22 km of beautifully groomed trails
 \, however there are trail fees. Come experience a real winter in this bea
 utiful snow-laden resort on a gorgeous high mountain lake.&nbsp\;\n\nWe wi
 ll potluck on Saturday and Sunday evenings. On Friday you can eat in on yo
 ur own\, or there are restaurants in Oakridge on your way and a couple sma
 ll country pubs within 10 miles of the resort. Bring your own breakfast an
 d lunch foods. The kitchen comes equipped with most items and includes a m
 icrowave\, but some supplies could be in short supply.&nbsp\;\n\nScenes fr
 om the beautiful trails\, click here.\n\nTrip Limit:&nbsp\; 12 participant
 s including trip leaders\nCost: $180/member\, per person. Includes 3 night
 s lodging.&nbsp\; Excludes cost of travel and meals\nCarpool miles:&nbsp\;
  360 miles round trip from Portland\, plus excursions to trailheads\nTrip 
 Leaders:&nbsp\; Mary Hepokoski\, hepomp8@comcast.net
CATEGORIES:Cross Country Ski
END:VEVENT
BEGIN:VTIMEZONE
TZID:America/Los_Angeles
X-LIC-LOCATION:America/Los_Angeles
BEGIN:STANDARD
DTSTART:20221106T010000
TZOFFSETFROM:-0700
TZOFFSETTO:-0800
TZNAME:PST
END:STANDARD
END:VTIMEZONE
END:VCALENDAR