BEGIN:VCALENDAR
VERSION:2.0
PRODID:-//wp-events-plugin.com//7.0.5//EN
TZID:America/Los_Angeles
X-WR-TIMEZONE:America/Los_Angeles
BEGIN:VEVENT
UID:782@onc-pdx.org
DTSTART;TZID=America/Los_Angeles;VALUE=DATE:20210205
DTEND;TZID=America/Los_Angeles;VALUE=DATE:20210209
DTSTAMP:20201012T002810Z
URL:https://onc-pdx.org/events/shelter-cove-resort-at-odell-lake/
SUMMARY:Shelter Cove Resort at Odell Lake
DESCRIPTION:Odell Lake\, OR\nFeb. 5 - 8\, Fri - Mon\nAll Abilities Ski&nbsp
 \;\n\nHigh up in the Cascades east of Eugene lies Willamette Pass and the 
 beautiful Odell Lake. Odell Lake is situated at 4\,800 feet\, so there is 
 plenty of snow plus great scenery. We stay at Shelter Cove Resort in two l
 arge cabins in the Kokanee Lodge with plenty of room for us. Beautiful vie
 ws right on the shore of Odell Lake.&nbsp\;\n\nThere are a number of good 
 ski routes near: the Pengra Pass trails\, the trails to Gold Lake\,&nbsp\;
  smaller trails right around Shelter Cove Resort and at Odell Lake. Willam
 ette Pass Ski Area has 22 km of beautifully groomed trails\, however trail
  fees apply. Come experience a real winter in this beautiful snow-laden re
 sort on a gorgeous high mountain lake.&nbsp\;\n\nWe will cook on Saturday 
 and Sunday evenings. On Friday you can eat in on your own\, or there are r
 estaurants in Oakridge on your way and a couple small country pubs within 
 10 miles of the resort. Bring your own breakfast and lunch foods. The kitc
 hens come equipped with most items and include microwaves\, but some suppl
 ies are in short supply.&nbsp\; Sno-Park permit required at ski areas.\n\n
 Trip limit:&nbsp\; 10 participants including trip leader.\nCost: $235/memb
 er\, per person. Includes 3 nights lodging.&nbsp\;&nbsp\;\nTravel miles:&n
 bsp\; 360 miles roundtrip from Portland plus excursions to trailheads.\nTr
 ip leader:&nbsp\; Ted Scheinman\, tedskier@gmail.com
CATEGORIES:Cross Country Ski
END:VEVENT
BEGIN:VTIMEZONE
TZID:America/Los_Angeles
X-LIC-LOCATION:America/Los_Angeles
BEGIN:STANDARD
DTSTART:20201101T010000
TZOFFSETFROM:-0700
TZOFFSETTO:-0800
TZNAME:PST
END:STANDARD
END:VTIMEZONE
END:VCALENDAR