BEGIN:VCALENDAR
VERSION:2.0
PRODID:-//wp-events-plugin.com//7.0.5//EN
TZID:America/Los_Angeles
X-WR-TIMEZONE:America/Los_Angeles
BEGIN:VEVENT
UID:644@onc-pdx.org
DTSTART;TZID=America/Los_Angeles;VALUE=DATE:20200207
DTEND;TZID=America/Los_Angeles;VALUE=DATE:20200210
DTSTAMP:20191023T183547Z
URL:https://onc-pdx.org/events/shelter-cove-resort-at-odell-lake-2020-2/
SUMMARY:Shelter Cove Resort at Odell Lake
DESCRIPTION:Friday Feb. 7 thru Sunday\, Feb. 9Odell Lake\, ORTrip Rating: A
 ll Ability SkiHigh up in the Cascades east of Eugene lies Willamette Pass 
 and the beautiful Odell Lake.&nbsp\; Odell Lake is situated at 4\,800 feet
 \, so there is plenty of snow plus great scenery.&nbsp\; We stay at Shelte
 r Cover Resort in two units: the large Kokanee Lodge with plenty of room f
 or seven\, plus a small cabin with room for four.&nbsp\; Beautiful views r
 ight on the shore of Odell Lake.&nbsp\; There are a number of good ski rou
 tes near: the Pengra ski area\, the trails to Gold Lake\, smaller trails r
 ight around Shelter Cove Resort and at Odell Lake Resort.&nbsp\; Willamett
 e Pass ski area has 22 km of beautifully groomed trails\, however there ar
 e trail fees.Come experience a real winter in this beautiful snow-laden re
 sort on a gorgeous high mountain lake.&nbsp\; We will potluck on Saturday 
 evening.&nbsp\; On Friday you can eat in on your own\, or there are restau
 rants in Oakridge on your way and a couple small country pubs within 10 mi
 les of the resort.&nbsp\; Bring your own breakfast and lunch foods.&nbsp\;
  The kitchens come equipped with most items and include microwaves but som
 e supplies are in short supply\, so bring if in doubt.See 2019 Google Phot
 o Album\, click here.Trip limit:&nbsp\; 11 participants including trip lea
 der.Cost: $120/member\, per person.&nbsp\; Includes 2 nights lodging.Carpo
 ol miles:&nbsp\; 360 miles roundtrip from Portland plus excursions to trai
 lheads.Trip Leader:&nbsp\; Bill Neuman\, wrn3200@yahoo.com
CATEGORIES:Cross Country Ski
END:VEVENT
BEGIN:VTIMEZONE
TZID:America/Los_Angeles
X-LIC-LOCATION:America/Los_Angeles
BEGIN:STANDARD
DTSTART:20191103T010000
TZOFFSETFROM:-0700
TZOFFSETTO:-0800
TZNAME:PST
END:STANDARD
END:VTIMEZONE
END:VCALENDAR