BEGIN:VCALENDAR
VERSION:2.0
PRODID:-//wp-events-plugin.com//7.0.5//EN
TZID:America/Los_Angeles
X-WR-TIMEZONE:America/Los_Angeles
BEGIN:VEVENT
UID:18@onc-pdx.org
DTSTART;TZID=America/Los_Angeles;VALUE=DATE:20150201
DTEND;TZID=America/Los_Angeles;VALUE=DATE:20150206
DTSTAMP:20150128T050444Z
URL:https://onc-pdx.org/events/scottish-lakes-wa/
SUMMARY:Scottish Lakes\, WA
DESCRIPTION:Join us for a midweek trip at Scottish Lakes High Camp located 
 near Wenatchee\, WA\, adjacent to the Alpine Lakes Wilderness area. High C
 amp is the gateway to some of the most spectacular scenery and terrain Was
 hington’s Central Cascades has to offer. Access to High Camp is via an e
 ight-mile private road on a snowmobile: no need to part with favored treat
 s and creature comforts this time. High Camp consists of nine rustic cabin
 s\, each with it’s own wood burning stove and stocked kitchen\, a comfor
 table day lodge\, hot tub and sauna. At 5\,000 feet Scottish Lakes is just
  far enough east of the Cascade crest to offer blue skies\, sunshine\, and
  dry powdery snow. With 35 miles of well marked trails\, access to the Alp
 ine Lakes Wilderness\, easy open slope touring and High Meadows for steep 
 seekers—there’s an incredible variety of fun terrain for all levels of
  touring\, backcountry skiing and snowshoeing. We will spend Sunday night 
 in a motel in Skykomish. Info: www.scottishlakes.comTrip limit: 15 partici
 pants\, including the leader.Cost: $350  per person\; you must be a curre
 nt ONC member before signing up for this trip. Contact leader for space a
 vailability.  Send your ONC-PDx overnight trip application and check paya
 ble to ONC-Portland Chapter to the trip leader: Russ Pascoe\, 400 E 22nd S
 treet\, Vancouver\, WA 98663-3205. For info contact Russ 360 901-3411 russ
 .bec@gmail.com.
CATEGORIES:Backcountry Ski/Telemarking,Snowshoe
END:VEVENT
BEGIN:VTIMEZONE
TZID:America/Los_Angeles
X-LIC-LOCATION:America/Los_Angeles
BEGIN:STANDARD
DTSTART:20141102T010000
TZOFFSETFROM:-0700
TZOFFSETTO:-0800
TZNAME:PST
END:STANDARD
END:VTIMEZONE
END:VCALENDAR