BEGIN:VCALENDAR
VERSION:2.0
PRODID:-//wp-events-plugin.com//7.0.5//EN
TZID:America/Los_Angeles
X-WR-TIMEZONE:America/Los_Angeles
BEGIN:VEVENT
UID:116@onc-pdx.org
DTSTART;TZID=America/Los_Angeles;VALUE=DATE:20160131
DTEND;TZID=America/Los_Angeles;VALUE=DATE:20160205
DTSTAMP:20151014T143419Z
URL:https://onc-pdx.org/events/scottish-lakes-wa-2/
SUMMARY:Scottish Lakes\, WA
DESCRIPTION:Jan 31 - Feb 4 Sun-ThursIntermediate / Advanced levelFour days 
 of skiing the North Washington Cascades in Alpine Lakes Wilderness area. C
 omfortable cabins\, lodge with sauna &amp\; hot tub for after ski. There w
 ill be multi-level ski trips and snowshoe trips each day. To make the most
  of this trip you should have some intermediate winter backcountry travel 
 experience.Join this midweek backcountry ski trip at Scottish Lakes High C
 amp located near Wenatchee\, WA\, adjacent to the Alpine Lakes Wilderness 
 area. High Camp is the gateway to some of the most spectacular scenery and
  terrain Washington’s Central Cascades has to offer. Access to High Camp
  is via an eight-mile private road via truck and snowmobile: no need to pa
 rt with favored treats and creature comforts this time. High Camp consists
  of nine rustic cabins\, each with its own wood burning stove and stocked 
 kitchen\, a comfortable day lodge\, hot tub and sauna. At 5\,000 feet Scot
 tish Lakes is just far enough east of the Cascade crest to offer blue skie
 s\, sunshine\, and dry powdery snow. With 35 miles of well- marked trails\
 , access to the Alpine Lakes Wilderness\, easy open slope touring and High
  Meadows for steep seekers\, views of Glacier Peak and the North Cascades
 —there’s an incredible variety of fun terrain for all levels of tourin
 g\, backcountry skiing and snowshoeing. We will spend Sunday night in a mo
 tel in Skykomish to facilitate early arrival on Monday.Trip limit: 15 part
 icipants\, including the leader.Cost: $386.00 per person\, includes lodgin
 g at resort\, snowmobile shuttle in and out plus Sunday night lodging in S
 kykomish. Carpools and group dinners will be organized.Sign up at the Over
 night Trip Extravaganza in October. Afterwards\, you may sign-up on the ON
 C-PDX website or send your overnight tour application and a check for $386
 .00\, payable to ONC-Portland Chapter\, to the trip leader\, Russ Pascoe. 
 Contact Russ at: russ.bec@gmail.com or 360 901-3411
CATEGORIES:Backcountry Ski/Telemarking,Cross Country Ski
LOCATION:Scottish Lakes\, Hwy 2\, Leanenworth\, WA\, United States
GEO:47.733124;-120.858002
X-APPLE-STRUCTURED-LOCATION;VALUE=URI;X-ADDRESS=Hwy 2\, Leanenworth\, WA\, 
 United States;X-APPLE-RADIUS=100;X-TITLE=Scottish Lakes:geo:47.733124,-120
 .858002
END:VEVENT
BEGIN:VTIMEZONE
TZID:America/Los_Angeles
X-LIC-LOCATION:America/Los_Angeles
BEGIN:STANDARD
DTSTART:20151101T010000
TZOFFSETFROM:-0700
TZOFFSETTO:-0800
TZNAME:PST
END:STANDARD
END:VTIMEZONE
END:VCALENDAR