BEGIN:VCALENDAR
VERSION:2.0
PRODID:-//wp-events-plugin.com//7.0.5//EN
TZID:America/Los_Angeles
X-WR-TIMEZONE:America/Los_Angeles
BEGIN:VEVENT
UID:1236@onc-pdx.org
DTSTART;TZID=America/Los_Angeles:20250325T083000
DTEND;TZID=America/Los_Angeles:20250325T170000
DTSTAMP:20250318T001712Z
URL:https://onc-pdx.org/events/sahalie-falls-environs/
SUMMARY:Sahalie Falls &amp\; environs
DESCRIPTION:Ski 3-5 mi on groomed\, ungroomed roads\, trails\, etc. Bring l
 unch. Intermediate skiers will be self directed. Meet 8:30 at Troutdale ol
 d town parking. For more info\, contact leader: Mike Dianich 971-344-1021 
 (txt first)\n\nMike Dianich\nmdianich@gmail.com\n971-344-1021 (txt first)
CATEGORIES:Cross Country Ski,Day Tours
LOCATION:Oldtown Troutdale (next to railroad tracks)\, 101 Historic Columbi
 a River Hwy.\, Troutdale\, OR\, 97060\, United States
X-APPLE-STRUCTURED-LOCATION;VALUE=URI;X-ADDRESS=101 Historic Columbia River
  Hwy.\, Troutdale\, OR\, 97060\, United States;X-APPLE-RADIUS=100;X-TITLE=
 Oldtown Troutdale (next to railroad tracks):geo:0,0
END:VEVENT
BEGIN:VTIMEZONE
TZID:America/Los_Angeles
X-LIC-LOCATION:America/Los_Angeles
BEGIN:DAYLIGHT
DTSTART:20250309T030000
TZOFFSETFROM:-0800
TZOFFSETTO:-0700
TZNAME:PDT
END:DAYLIGHT
END:VTIMEZONE
END:VCALENDAR