BEGIN:VCALENDAR
VERSION:2.0
PRODID:-//wp-events-plugin.com//7.0.5//EN
TZID:America/Los_Angeles
X-WR-TIMEZONE:America/Los_Angeles
BEGIN:VEVENT
UID:31@onc-pdx.org
DTSTART;TZID=America/Los_Angeles;VALUE=DATE:20150319
DTEND;TZID=America/Los_Angeles;VALUE=DATE:20150330
DTSTAMP:20150206T010737Z
URL:https://onc-pdx.org/events/rondane-norway-hut-hut-skiing/
SUMMARY:Rondane\, Norway - Hut to hut skiing
DESCRIPTION:This is an opportunity of a lifetime! Let’s go to where cross
 -country skiing began! You have always wanted to do this trip and here is 
 your opportunity.We will fly to Oslo in the late afternoon of Thursday\, M
 arch 19\, arriving late on afternoon\, where we will stay overnight at Ank
 er Hostel in Oslo. On Saturday morning\, we will travel by train from Oslo
  to Otta and take a special bus to Haukliseter\, from where we will begin 
 our tour from mountain lodge to mountain lodge in the Rondane National Par
 k. These mountain lodges have electricity\, dining facilities with huge me
 als\, rooms with beds and blankets\, saunas\, and sometimes hot showers. Y
 ou only need to carry your clothes and personal gear in your pack. We will
  stay for a more than one night at one of the lodges so we can explore are
 as around the lodge.It is not necessary to be expert skiers to come on thi
 s trip\; this is not a technically difficult trip. You should have interme
 diate-level cross-country skills and ability to ski up to 15 miles per day
  (although most days are much shorter). Most of the trails are fairly gent
 le through valleys with mountains on either side. The trails are well mark
 ed with flags and there are many Norwegians skiing during this time period
 . We will join the Norwegian DNT (mountain climbing association) for one o
 f their organized tours with a professional guide.Cost: TBD\, total cost i
 s expected to be less than $3000.If you are interested in this trip\, plea
 se contact the leader: Ted Scheinman 503 452-7432 tedskier@gmail.com.
CATEGORIES:Backcountry Ski/Telemarking,Cross Country Ski
END:VEVENT
BEGIN:VTIMEZONE
TZID:America/Los_Angeles
X-LIC-LOCATION:America/Los_Angeles
BEGIN:DAYLIGHT
DTSTART:20150308T030000
TZOFFSETFROM:-0800
TZOFFSETTO:-0700
TZNAME:PDT
END:DAYLIGHT
END:VTIMEZONE
END:VCALENDAR