BEGIN:VCALENDAR
VERSION:2.0
PRODID:-//wp-events-plugin.com//7.0.5//EN
TZID:America/Los_Angeles
X-WR-TIMEZONE:America/Los_Angeles
BEGIN:VEVENT
UID:670@onc-pdx.org
DTSTART;TZID=America/Los_Angeles:20191008T071500
DTEND;TZID=America/Los_Angeles:20191008T080000
DTSTAMP:20191008T143625Z
URL:https://onc-pdx.org/events/readiness-test/
SUMMARY:Readiness Test Oct. 2019
DESCRIPTION:Testing 1\,2\,3
END:VEVENT
BEGIN:VTIMEZONE
TZID:America/Los_Angeles
X-LIC-LOCATION:America/Los_Angeles
BEGIN:DAYLIGHT
DTSTART:20190310T030000
TZOFFSETFROM:-0800
TZOFFSETTO:-0700
TZNAME:PDT
END:DAYLIGHT
END:VTIMEZONE
END:VCALENDAR