BEGIN:VCALENDAR
VERSION:2.0
PRODID:-//wp-events-plugin.com//7.0.5//EN
TZID:America/Los_Angeles
X-WR-TIMEZONE:America/Los_Angeles
BEGIN:VEVENT
UID:669@onc-pdx.org
DTSTART;TZID=America/Los_Angeles;VALUE=DATE:20251019
DTEND;TZID=America/Los_Angeles;VALUE=DATE:20251020
DTSTAMP:20251019T154129Z
URL:https://onc-pdx.org/events/practice-trips-signup-free/
SUMMARY:Practice Trips Signup - Free to try out
DESCRIPTION:\nHello Nordic Club Skiers! \n You'll be able to use this pra
 ctice signup beginning Oct. 14 at 9 PM following the Trips Extravaganza. M
 eanwhile\, checkout the video.\nThese are the steps to sign up for a trip:
 \n\nYou will need to be logged in.  (If you have problems signing in\, th
 en check out this info).\nMake sure your membership is active.  Not sure?
   Here's how to find out.\nUnder the Bookings section\, select a 'ticket 
 type'.  You can mix and match but you are limited to two spaces\, just li
 ke the real thing.\nFill in the questions (answers need not be real\, have
  fun with them).  Please note that ** indicates a required field.\nPress 
 the 'Sign Up' button.\n\nThat’s it. Normally you would then be routed to
  Stripe if payment is required\, then returned to the website. An email co
 nfirmation from webmaster@onc-pdx.org will be sent to you and your trip wi
 ll be listed in My Bookings under the Members Only menu.\n\n  \n\nHappy B
 C Skiers 2025\n\n\nThis signup will be open from 9 pm following the Overni
 ght Trips Extravaganza until 12 Midnight before trips open.
CATEGORIES:Cross Country Ski,Overnight Trips
END:VEVENT
BEGIN:VTIMEZONE
TZID:America/Los_Angeles
X-LIC-LOCATION:America/Los_Angeles
BEGIN:DAYLIGHT
DTSTART:20250309T030000
TZOFFSETFROM:-0800
TZOFFSETTO:-0700
TZNAME:PDT
END:DAYLIGHT
END:VTIMEZONE
END:VCALENDAR