BEGIN:VCALENDAR
VERSION:2.0
PRODID:-//wp-events-plugin.com//7.0.5//EN
TZID:America/Los_Angeles
X-WR-TIMEZONE:America/Los_Angeles
BEGIN:VEVENT
UID:765@onc-pdx.org
DTSTART;TZID=America/Los_Angeles:20200802T093000
DTEND;TZID=America/Los_Angeles:20200802T150000
DTSTAMP:20200728T172916Z
URL:https://onc-pdx.org/events/pocket-creek-road-and-trails-mt-hood-or/
SUMMARY:Pocket Creek Road and Trails\, Mt. Hood\, OR
DESCRIPTION:Come on out to help restore this good connector trail and enjoy
  a day in the woods.Plan on limbing and brushing roads and trails. Bring C
 OVID mask\, glasses or protective eyewear and work gloves.&nbsp\; Wear lon
 g pants\, long sleeve shirt\, boots\, and have bug juice and sunscreen\, p
 lenty of water\, snacks and lunch. ONC will provide tools and hard hats.&n
 bsp\;&nbsp\;Each person or family unit must drive in separate cars ( SORRY
  no CAR Pools). Meet at the Pocket Creek snow park at 9:30am.Sign up below
  or for more info contact the leader: Ken Wenzel 503.729.6571 (call or tex
 t) skiwenzel@hotmail.comSelect the number of spaces for all of the people 
 in your party and provide their contact information where indicated.
CATEGORIES:Trail Tending
LOCATION:Pocket Creek Sno-Park\, Hwy. 35\, Mt. Hood\, OR\, United States
X-APPLE-STRUCTURED-LOCATION;VALUE=URI;X-ADDRESS=Hwy. 35\, Mt. Hood\, OR\, U
 nited States;X-APPLE-RADIUS=100;X-TITLE=Pocket Creek Sno-Park:geo:0,0
END:VEVENT
BEGIN:VTIMEZONE
TZID:America/Los_Angeles
X-LIC-LOCATION:America/Los_Angeles
BEGIN:DAYLIGHT
DTSTART:20200308T030000
TZOFFSETFROM:-0800
TZOFFSETTO:-0700
TZNAME:PDT
END:DAYLIGHT
END:VTIMEZONE
END:VCALENDAR