BEGIN:VCALENDAR
VERSION:2.0
PRODID:-//wp-events-plugin.com//7.0.5//EN
TZID:America/Los_Angeles
X-WR-TIMEZONE:America/Los_Angeles
BEGIN:VEVENT
UID:1308@onc-pdx.org
DTSTART;TZID=America/Los_Angeles:20260819T080000
DTEND;TZID=America/Los_Angeles:20260819T170000
DTSTAMP:20260420T142757Z
URL:https://onc-pdx.org/events/pocket-creek-area-meadow-trail/
SUMMARY:Pocket Creek area – Meadow Trail
DESCRIPTION:Join us to help maintain ski trails at local favorite\, Pocket 
 Creek\, of course!  This is a lovely setting\, far from the maddening cro
 wds\, just don't let the grey jays steal your lunch.  Most trail tending 
 work parties involve light brushing\, tree limbing\, and the hanging of bl
 ue diamonds.  We will work until about 2:30 pm with return to Portland ab
 out 5 pm.  We'll supply the tools and hardhats.\n\nMeet at Old Town Trout
 dale at 8 am sharp for carpooling - see map below.\n\nWhat to bring: Bring
  a comfortable pair of work gloves to protect your hands (gardening gloves
 \, leather\, etc.). Wear long pants\, a long-sleeved shirt\, hiking boots 
 and protective eye wear.  Dress for the weather\; it could be hot\, cold\
 , windy\, rainy\, or any and all in the same day.  Have bug repellent\, s
 unscreen\, plus 12 essentials. Finally\, bring small backpack with a lunch
  and snacks as you are sure to work up an appetite\, and lots of water.\n\
 nSign up below - select the number of spaces for all of the people in your
  party and provide their contact information where indicated.  Note to me
 mbers - please sign in to make a reservation.\n\nFor more info or if the s
 ignup is full\, contact the leader: Ken Wenzel 503-729-6571 (call or text)
  skiwenzel@hotmail.com\n\nClick on the map to view a larger scale with str
 eet details of the meeting place.  Or view on Google Maps: 101 Historic C
 olumbia River Hwy\, Troutdale\, OR 97060.  Look for us in the parking are
 a behind the buildings just south of the railroad tracks.\n\n
CATEGORIES:Trail Tending
LOCATION:Oldtown Troutdale (next to railroad tracks)\, 101 Historic Columbi
 a River Hwy.\, Troutdale\, OR\, 97060\, United States
X-APPLE-STRUCTURED-LOCATION;VALUE=URI;X-ADDRESS=101 Historic Columbia River
  Hwy.\, Troutdale\, OR\, 97060\, United States;X-APPLE-RADIUS=100;X-TITLE=
 Oldtown Troutdale (next to railroad tracks):geo:0,0
END:VEVENT
BEGIN:VTIMEZONE
TZID:America/Los_Angeles
X-LIC-LOCATION:America/Los_Angeles
BEGIN:DAYLIGHT
DTSTART:20260308T030000
TZOFFSETFROM:-0800
TZOFFSETTO:-0700
TZNAME:PDT
END:DAYLIGHT
END:VTIMEZONE
END:VCALENDAR