BEGIN:VCALENDAR
VERSION:2.0
PRODID:-//wp-events-plugin.com//7.0.5//EN
TZID:America/Los_Angeles
X-WR-TIMEZONE:America/Los_Angeles
BEGIN:VEVENT
UID:989@onc-pdx.org
DTSTART;TZID=America/Los_Angeles:20221228T080000
DTEND;TZID=America/Los_Angeles:20221228T170000
DTSTAMP:20221218T205848Z
URL:https://onc-pdx.org/events/pineside-snow-park-mt-adams-day-tour/
SUMMARY:Pineside Snow Park - Mt. Adams Day Tour
DESCRIPTION:Description: Pineside Snow Park - Mt. Adams Intermediate Ski\n\
 nDate: Wednesday\, December 28\n\nMeeting Place &amp\; Time:\nMeet at Oldt
 own Troutdale Public Parking Lot next to the railroad tracks\, 115 W Histo
 ric Columbia River Hwy. (see map below)\nMeeting at Atkisson Snow Park at 
 9:30 – 9:45 AM.\nWashington Snow Park Pass required if you plan on drivi
 ng.\n\nTour Leader: Ken Wenzel\, skiwenzel@hotmail.com Cell - 503-729-6571
 &nbsp\; &nbsp\; Home Phone 503-297-2958\n\n
CATEGORIES:Cross Country Ski,Day Tours
END:VEVENT
BEGIN:VTIMEZONE
TZID:America/Los_Angeles
X-LIC-LOCATION:America/Los_Angeles
BEGIN:STANDARD
DTSTART:20221106T010000
TZOFFSETFROM:-0700
TZOFFSETTO:-0800
TZNAME:PST
END:STANDARD
END:VTIMEZONE
END:VCALENDAR