BEGIN:VCALENDAR
VERSION:2.0
PRODID:-//wp-events-plugin.com//7.0.5//EN
TZID:America/Los_Angeles
X-WR-TIMEZONE:America/Los_Angeles
BEGIN:VEVENT
UID:1216@onc-pdx.org
DTSTART;TZID=America/Los_Angeles:20250216T083000
DTEND;TZID=America/Los_Angeles:20250216T170000
DTSTAMP:20250212T062429Z
URL:https://onc-pdx.org/events/pineside-big-tree-xc-loops/
SUMMARY:Pineside/Big Tree XC Loop(s)
DESCRIPTION:Intermediate ski\, 5-7 mi on moderate terrain from Pineside Sno
 wpark (Washington). Bring Lunch.\n\nNo dogs allowed\n\nMike Dianich\nmdian
 ich@gmail.com\n971-344-1021 (txt first)\n\n&nbsp\;
CATEGORIES:Cross Country Ski,Day Tours
LOCATION:Oldtown Troutdale (next to railroad tracks)\, 101 Historic Columbi
 a River Hwy.\, Troutdale\, OR\, 97060\, United States
X-APPLE-STRUCTURED-LOCATION;VALUE=URI;X-ADDRESS=101 Historic Columbia River
  Hwy.\, Troutdale\, OR\, 97060\, United States;X-APPLE-RADIUS=100;X-TITLE=
 Oldtown Troutdale (next to railroad tracks):geo:0,0
END:VEVENT
BEGIN:VTIMEZONE
TZID:America/Los_Angeles
X-LIC-LOCATION:America/Los_Angeles
BEGIN:STANDARD
DTSTART:20241103T010000
TZOFFSETFROM:-0700
TZOFFSETTO:-0800
TZNAME:PST
END:STANDARD
END:VTIMEZONE
END:VCALENDAR