BEGIN:VCALENDAR
VERSION:2.0
PRODID:-//wp-events-plugin.com//7.0.5//EN
TZID:America/Los_Angeles
X-WR-TIMEZONE:America/Los_Angeles
BEGIN:VEVENT
UID:774@onc-pdx.org
DTSTART;TZID=America/Los_Angeles:20201011T170000
DTEND;TZID=America/Los_Angeles:20201011T190000
DTSTAMP:20200901T141308Z
URL:https://onc-pdx.org/events/overnight-trips-signup/
SUMMARY:Overnight Trips Signup
DESCRIPTION:The annual overnight trips signup begins at 5 PM.&nbsp\; Each h
 alf hour a new set of trip opens up for signup.&nbsp\; Be sure you have re
 newed your membership and can login.\n\nClick on 'Overnight Trips' below t
 o see the details of all of our trips for the coming ski season here:\n\nh
 ttps://onc-pdx.org/activities/overnight-trips/
LOCATION:https://onc-pdx.org/activities/overnight-trips/
END:VEVENT
BEGIN:VTIMEZONE
TZID:America/Los_Angeles
X-LIC-LOCATION:America/Los_Angeles
BEGIN:DAYLIGHT
DTSTART:20200308T030000
TZOFFSETFROM:-0800
TZOFFSETTO:-0700
TZNAME:PDT
END:DAYLIGHT
END:VTIMEZONE
END:VCALENDAR