BEGIN:VCALENDAR
VERSION:2.0
PRODID:-//wp-events-plugin.com//7.0.5//EN
TZID:America/Los_Angeles
X-WR-TIMEZONE:America/Los_Angeles
BEGIN:VEVENT
UID:944@onc-pdx.org
DTSTART;TZID=America/Los_Angeles:20221016T170000
DTEND;TZID=America/Los_Angeles:20221016T200000
DTSTAMP:20221016T224804Z
URL:https://onc-pdx.org/events/overnight-trips-signup-2/
SUMMARY:Overnight Trips Signup
DESCRIPTION:What we've been waiting for since\, well... last year's ski sea
 son!&nbsp\; Sign up for one of our delightful trips beginning at 5 PM.&nbs
 p\; Every 15 minutes a new set of trips opens up for signup.&nbsp\; Be sur
 e you have renewed your membership and that you can login.&nbsp\;\n\nClick
  on 'Overnight Trips' below to see the details of all of our trips for the
  coming ski season here:\n\nhttps://onc-pdx.org/activities/overnight-trips
 /\n&nbsp\;\n&nbsp\;\n&nbsp\;\n&nbsp\;
END:VEVENT
BEGIN:VTIMEZONE
TZID:America/Los_Angeles
X-LIC-LOCATION:America/Los_Angeles
BEGIN:DAYLIGHT
DTSTART:20220313T030000
TZOFFSETFROM:-0800
TZOFFSETTO:-0700
TZNAME:PDT
END:DAYLIGHT
END:VTIMEZONE
END:VCALENDAR