BEGIN:VCALENDAR
VERSION:2.0
PRODID:-//wp-events-plugin.com//7.0.5//EN
TZID:America/Los_Angeles
X-WR-TIMEZONE:America/Los_Angeles
BEGIN:VEVENT
UID:798@onc-pdx.org
DTSTART;TZID=America/Los_Angeles:20201006T190000
DTEND;TZID=America/Los_Angeles:20201006T210000
DTSTAMP:20201006T182437Z
URL:https://onc-pdx.org/events/overnight-trips-extravaganza-zoom/
SUMMARY:Overnight Trips Extravaganza - Zoom
DESCRIPTION:Join us for a showcase of the 2020-21 ONC-PDX overnight ski/sno
 wshoe trips. Yes\, we still have trips\, complete with social distancing a
 nd private rooms! We’ll be going to places in Oregon like the east side 
 of Mt. Hood at Tilly Jane—A-Frame and Guard Station\, Lake Creek Lodge i
 n Camp Sherman\, Anthony Lakes and the Wallowa Mountains in the eastern pa
 rt of the state\, Shelter Cove Resort at Odell Lake\, Bend\, and Sisters f
 or the John Craig Tour. In Washington we‘ll be off to the renowned Metho
 w Valley and Mt. Rainier. Further afield\, we’ll be skiing at Yellowston
 e National Park (tentative)\, and Glacier National Park. Next summer we’
 ll bike in the Rhone Valley in France.\n\nJoin us online\, with ONC-PDX fr
 iends\, the overnight trip committee\, and trip leaders\, via Zoom.\n\nAn 
 email will be sent to all members with the Zoom link a few days before the
  meeting.\n\nInformation below\, or direct link to flyer: https://onc-pdx.
 org/wp-content/uploads/2020/10/20-Oct-6-Program-flier.pdf\n\n
END:VEVENT
BEGIN:VTIMEZONE
TZID:America/Los_Angeles
X-LIC-LOCATION:America/Los_Angeles
BEGIN:DAYLIGHT
DTSTART:20200308T030000
TZOFFSETFROM:-0800
TZOFFSETTO:-0700
TZNAME:PDT
END:DAYLIGHT
END:VTIMEZONE
END:VCALENDAR