BEGIN:VCALENDAR
VERSION:2.0
PRODID:-//wp-events-plugin.com//7.0.5//EN
TZID:America/Los_Angeles
X-WR-TIMEZONE:America/Los_Angeles
BEGIN:VEVENT
UID:72@onc-pdx.org
DTSTART;TZID=America/Los_Angeles:20150428T180000
DTEND;TZID=America/Los_Angeles:20150428T210000
DTSTAMP:20150423T145338Z
URL:https://onc-pdx.org/events/overnight-trip-planning-session/
SUMMARY:Overnight Trip Planning Session
DESCRIPTION:Hello Nordic Club Members\,Come to the overnight trip planning 
 session on Tuesday\, April 28th\, 6:00-9:00\, at the Mazama Mountaineering
  Center (527 SE 43rd Avenue\, Portland) in Conference Room 3.  Enjoy pizz
 a and good company and start to make a dream ski trip a reality.    At 
 this meeting\, we will go over the nuts and bolts of organizing an overnig
 ht  trip\, look at the list of recent trips\,  and brainstorm possible n
 ew locations.  You will have the opportunity to create proposals for a tr
 ip (either as a leader or co-leader).  The Overnight Trip Coordinator (Te
 d Scheinman) and the Overnight Trip Steering Committee will be there to ad
 vise you and review your proposal.  (You are under no obligation to lead 
 an overnight trip by attending this meeting.)If you don't feel ready to le
 ad a trip on your own\,  you'll have the opportunity to team up with anot
 her leader -- as an assistant leader or a co-leader.  So\, bring your cal
 endar and your laptop\, if you have one.  Come join the fun!Pizza and sof
 t drinks will be provided.  Please R.S.V.P to Ann Truax (ann.truax@gmail.
 com or 503-756-8891) if you plan to attend.
CATEGORIES:Cross Country Ski
LOCATION:\, \, 
X-APPLE-STRUCTURED-LOCATION;VALUE=URI;X-ADDRESS=\, ;X-APPLE-RADIUS=100;X-TI
 TLE=:geo:0,0
END:VEVENT
BEGIN:VTIMEZONE
TZID:America/Los_Angeles
X-LIC-LOCATION:America/Los_Angeles
BEGIN:DAYLIGHT
DTSTART:20150308T030000
TZOFFSETFROM:-0800
TZOFFSETTO:-0700
TZNAME:PDT
END:DAYLIGHT
END:VTIMEZONE
END:VCALENDAR