BEGIN:VCALENDAR
VERSION:2.0
PRODID:-//wp-events-plugin.com//7.0.5//EN
TZID:America/Los_Angeles
X-WR-TIMEZONE:America/Los_Angeles
BEGIN:VEVENT
UID:1276@onc-pdx.org
DTSTART;TZID=America/Los_Angeles:20251001T000000
DTEND;TZID=America/Los_Angeles:20251001T000000
DTSTAMP:20251030T011347Z
URL:https://onc-pdx.org/events/online-payments-2026/
SUMMARY:Online Reserved Payments for 2026
DESCRIPTION:This page is for online payments\, such as for co-lead payments
 \, spouses and partners\, and other special circumstances. It is set up as
  understood from how the trip workbook was set up.\n\nYou need to be logge
 d in to before you can make a payment.  Please select only the ticket wit
 h your name for your reserved trip and please do not share this link. Plea
 se complete payment by Oct. 31.\n\nFor questions\, corrections\, updates\,
  etc.\, please email website@pdxnordic.org
END:VEVENT
BEGIN:VTIMEZONE
TZID:America/Los_Angeles
X-LIC-LOCATION:America/Los_Angeles
BEGIN:DAYLIGHT
DTSTART:20250309T030000
TZOFFSETFROM:-0800
TZOFFSETTO:-0700
TZNAME:PDT
END:DAYLIGHT
END:VTIMEZONE
END:VCALENDAR