BEGIN:VCALENDAR
VERSION:2.0
PRODID:-//wp-events-plugin.com//7.0.5//EN
TZID:America/Los_Angeles
X-WR-TIMEZONE:America/Los_Angeles
BEGIN:VEVENT
UID:754@onc-pdx.org
DTSTART;TZID=America/Los_Angeles:20200505T193000
DTEND;TZID=America/Los_Angeles:20200505T203000
DTSTAMP:20200504T171609Z
URL:https://onc-pdx.org/events/onc-virtual-meeting-tuesday-may-5-730pm/
SUMMARY:ONC Virtual Meeting: Tuesday May 5: 7:30pm
DESCRIPTION:Please click the link below for how to access the online meetin
 g:https://onc-pdx.org/forums/topic/onc-virtual-meeting-tuesday-may-5-730pm
 /
END:VEVENT
BEGIN:VTIMEZONE
TZID:America/Los_Angeles
X-LIC-LOCATION:America/Los_Angeles
BEGIN:DAYLIGHT
DTSTART:20200308T030000
TZOFFSETFROM:-0800
TZOFFSETTO:-0700
TZNAME:PDT
END:DAYLIGHT
END:VTIMEZONE
END:VCALENDAR