BEGIN:VCALENDAR
VERSION:2.0
PRODID:-//wp-events-plugin.com//7.0.5//EN
TZID:America/Los_Angeles
X-WR-TIMEZONE:America/Los_Angeles
BEGIN:VEVENT
UID:668@onc-pdx.org
DTSTART;TZID=America/Los_Angeles:20191013T170000
DTEND;TZID=America/Los_Angeles:20191013T190000
DTSTAMP:20191002T135504Z
URL:https://onc-pdx.org/events/onc-pdx-overnight-trips-signup/
SUMMARY:ONC-PDX Overnight Trips Signup
DESCRIPTION:Hey folks\, it’s that time of year to put away the summer thi
 ngs and start thinking… snow.&nbsp\; Or at least we can dream about the 
 places we’ll visit this winter and beyond…&nbsp\; Like Methow Valley\,
  Central Cascades\, Eastern Oregon\, Mt. Rainer\, Yellowstone\, BC Canada\
 , Austria and Italy!&nbsp\; That’s where you’ll find us on fabulous sk
 i adventures while we romp and play to our hearts delight.&nbsp\; Even a b
 ike trip to southern France to glide us into next summer. &nbsp\;With 25 o
 vernight trips planned you’ll find something for every style of skiing.&
 nbsp\; And the signups begin on Oct. 13 at 5 PM.&nbsp\; Please check out t
 he details on our Overnight Trips page.
END:VEVENT
BEGIN:VTIMEZONE
TZID:America/Los_Angeles
X-LIC-LOCATION:America/Los_Angeles
BEGIN:DAYLIGHT
DTSTART:20190310T030000
TZOFFSETFROM:-0800
TZOFFSETTO:-0700
TZNAME:PDT
END:DAYLIGHT
END:VTIMEZONE
END:VCALENDAR