BEGIN:VCALENDAR
VERSION:2.0
PRODID:-//wp-events-plugin.com//7.0.5//EN
TZID:America/Los_Angeles
X-WR-TIMEZONE:America/Los_Angeles
BEGIN:VEVENT
UID:81@onc-pdx.org
DTSTART;TZID=America/Los_Angeles:20150616T180000
DTEND;TZID=America/Los_Angeles:20150616T210000
DTSTAMP:20150516T212417Z
URL:https://onc-pdx.org/events/onc-day-tour-planning-meeting/
SUMMARY:ONC Day Tour Planning Meeting
DESCRIPTION:Hello Nordic Club Members\,Join us for a day tour planning sess
 ion on Tuesday\, June 16\, 6:00-9:00 p.m.\, at the Mazama Mountaineering C
 enter (527 SE 43rd Avenue\, Portland). Enjoy pizza and good company as we 
 discuss how to spend more time skiing next season.      We’ll cover
  the basics of what it takes to lead a day tour\, then for most of the mee
 ting\, we’ll focus on how to have more day tours. Let’s brainstorm tog
 ether on incentives we can provide for trip leaders\, ways to alleviate co
 ncerns of new leaders\, exciting locations we should lead tours on\, and o
 ther ideas you have. Please attend if you have an idea for how we can incr
 ease participation\, or if you want to lead a day tour next year\, or if y
 ou just want to get together with friends and talk about skiing.Pizza and 
 soft drinks will be provided.  Please R.S.V.P to Denise (503-235-3166\, o
 ncdaytours@gmail.com) if you plan to attend.
LOCATION:\, \, 
X-APPLE-STRUCTURED-LOCATION;VALUE=URI;X-ADDRESS=\, ;X-APPLE-RADIUS=100;X-TI
 TLE=:geo:0,0
END:VEVENT
BEGIN:VTIMEZONE
TZID:America/Los_Angeles
X-LIC-LOCATION:America/Los_Angeles
BEGIN:DAYLIGHT
DTSTART:20150308T030000
TZOFFSETFROM:-0800
TZOFFSETTO:-0700
TZNAME:PDT
END:DAYLIGHT
END:VTIMEZONE
END:VCALENDAR