BEGIN:VCALENDAR
VERSION:2.0
PRODID:-//wp-events-plugin.com//7.0.5//EN
TZID:America/Los_Angeles
X-WR-TIMEZONE:America/Los_Angeles
BEGIN:VEVENT
UID:913@onc-pdx.org
DTSTART;TZID=America/Los_Angeles:20220326T080000
DTEND;TZID=America/Los_Angeles:20220326T170000
DTSTAMP:20220316T202035Z
URL:https://onc-pdx.org/events/oldman-pass/
SUMMARY:Oldman Pass
DESCRIPTION:Description\nOldman Pass - Tour on Groomed Trails 7- 8 Miles - 
 Trails 148 &amp\; 150 and McClellan Meadows\n\nTour Difficulty: Beginner\n
 \nCarpooling Location\nSaturday - Troutdale Mall Parking Lot in Front of S
 tarbucks in Middle of lot. 8 AM for Carpooling\n\nSki Start Location\nPark
 ing at Koshko Snow Park\n9:30-10 AM KOSHKO Snow Park about 1/2 mile Past O
 ldman Pass Parking Lot\nIf driving you need a Washington Snow Park Pass\n\
 nAre dogs allowed on this tour?:        NO\n\nTrip Leader Name:  
    Ken Wenzel\nContact info:   skiwenzel@hotmail.com\, Cell Phone 503-
 729-6571
CATEGORIES:Cross Country Ski,Day Tours
LOCATION:Outlet Mall Troutdale\, 450 NW 257th\, Troutdale\, OR\, 97060\, Un
 ited States
X-APPLE-STRUCTURED-LOCATION;VALUE=URI;X-ADDRESS=450 NW 257th\, Troutdale\, 
 OR\, 97060\, United States;X-APPLE-RADIUS=100;X-TITLE=Outlet Mall Troutdal
 e:geo:0,0
END:VEVENT
BEGIN:VTIMEZONE
TZID:America/Los_Angeles
X-LIC-LOCATION:America/Los_Angeles
BEGIN:DAYLIGHT
DTSTART:20220313T030000
TZOFFSETFROM:-0800
TZOFFSETTO:-0700
TZNAME:PDT
END:DAYLIGHT
END:VTIMEZONE
END:VCALENDAR