BEGIN:VCALENDAR
VERSION:2.0
PRODID:-//wp-events-plugin.com//7.0.5//EN
TZID:America/Los_Angeles
X-WR-TIMEZONE:America/Los_Angeles
BEGIN:VEVENT
UID:718@onc-pdx.org
DTSTART;TZID=America/Los_Angeles;VALUE=DATE:20200125
DTEND;TZID=America/Los_Angeles;VALUE=DATE:20200126
DTSTAMP:20200122T171115Z
URL:https://onc-pdx.org/events/old-man-pass-wind-river-wa/
SUMMARY:POSTPONED! Old Man Pass\, Wind River\, WA
DESCRIPTION:After speaking with the Mt. Adams Ranger District today\, I lea
 rned that they have not groomed the trails at Old Man Pass and with the ex
 pected weather there this weekend (rain)\, they do not expect to do so thi
 s week. As a result\, I am going to postpone this trip until the trails an
 d weather are better.In the meantime\, I STRONGLY recommend taking the ONC
  Ski Bus this Saturday to ski with the club and to avoid driving through G
 overnment Camp. There is PLENTY of room available. You may sign up on this
  website. Be sure to log in as a member and register for the bus.TedAre yo
 u tired of fighting the crowds to ski on the weekend at Mt. Hood? Do you w
 ant a quieter place to ski? Let's plan to ski in the Gifford Pinchot Natio
 nal Forest at Old Man Pass. This is a loop ski\, using Trails 150 and 148\
 , which are usually groomed. Start at Old Man Pass Sno-Park\, head past th
 e McClellan Sno-Park\, cross the road\, then return passing Koshko Sno-Par
 k. Total distance is about 3-4 miles with options for another 1.3 miles.Me
 et at Gateway Park &amp\; Ride\, NE 99th Ave\, north of NE Pacific Ave. at
  8 AM to carpool. RT Distance: 160 miles\, 2 hours\, suggested carpool cos
 t is $15. You must have a Washington State Snow Park Permit.For more info 
 contact the leader: Ted Scheinman\, tedskier@gmail.com\, 503-914-9584.
CATEGORIES:Cross Country Ski
LOCATION:\, \, 
X-APPLE-STRUCTURED-LOCATION;VALUE=URI;X-ADDRESS=\, ;X-APPLE-RADIUS=100;X-TI
 TLE=:geo:0,0
END:VEVENT
BEGIN:VTIMEZONE
TZID:America/Los_Angeles
X-LIC-LOCATION:America/Los_Angeles
BEGIN:STANDARD
DTSTART:20191103T010000
TZOFFSETFROM:-0700
TZOFFSETTO:-0800
TZNAME:PST
END:STANDARD
END:VTIMEZONE
END:VCALENDAR