BEGIN:VCALENDAR
VERSION:2.0
PRODID:-//wp-events-plugin.com//7.0.5//EN
TZID:America/Los_Angeles
X-WR-TIMEZONE:America/Los_Angeles
BEGIN:VEVENT
UID:655@onc-pdx.org
DTSTART;TZID=America/Los_Angeles;VALUE=DATE:20200309
DTEND;TZID=America/Los_Angeles;VALUE=DATE:20200313
DTSTAMP:20191022T235335Z
URL:https://onc-pdx.org/events/oh-so-lets-go-to-ochocos-2020/
SUMMARY:Oh So Let’s Go To The Ochocos
DESCRIPTION:Monday\, Mar. 9 thru Thursday\, Mar. 12Ochoco National Forest\,
  ORIntermediate Ski in Big Pine CountryWe will drive over on Monday hoping
  to arrive in time for an evening ski before dinner.&nbsp\; Two lovely are
 as to ski are the Walton Lake and Bandit Springs Forest Service trails.&nb
 sp\; These areas have been maintained and marked with blue diamonds by ONC
  members in Oct. 2018 and June 2019.We will be staying in an artfully cons
 tructed 1\,145 square foot 3-bedroom 1.5 bath 2-story former ranger house\
 , with a wonderful dining room table that accommodates our entire group\, 
 as well as large knotty-pine paneled living room with comfortable seating 
 for evening reading and chats.If snow is lacking\, we will do some hikes i
 n the local area and over at the Painted Hills in the John Day Fossil beds
 .&nbsp\; There are always fun things do in that part of the State.&nbsp\; 
 Participants are responsible for their own breakfasts and lunches.&nbsp\; 
 Dinners will be potluck.Available Beds:&nbsp\; Two rooms with queen beds a
 nd one room with 3 single beds.&nbsp\; Living room will not be available f
 or alternate sleeping arrangements.&nbsp\; Alternate sleeping arrangements
  (e.g.\, cot or sleeping pads) are possible in double bed rooms.Trip limit
 :&nbsp\; 5-7 participants including trip leader.Cost: $75/member\, per per
 son.&nbsp\; Includes 3 nights lodging.Carpool miles:&nbsp\; 340 miles roun
 dtrip from Portland plus excursions to trailheads.Trip Leader:&nbsp\; Laur
 el Dickie\, laureldickie@hotmail.com
CATEGORIES:Cross Country Ski
END:VEVENT
BEGIN:VTIMEZONE
TZID:America/Los_Angeles
X-LIC-LOCATION:America/Los_Angeles
BEGIN:DAYLIGHT
DTSTART:20200308T030000
TZOFFSETFROM:-0800
TZOFFSETTO:-0700
TZNAME:PDT
END:DAYLIGHT
END:VTIMEZONE
END:VCALENDAR