BEGIN:VCALENDAR
VERSION:2.0
PRODID:-//wp-events-plugin.com//7.0.5//EN
TZID:America/Los_Angeles
X-WR-TIMEZONE:America/Los_Angeles
BEGIN:VEVENT
UID:1182@onc-pdx.org
DTSTART;TZID=America/Los_Angeles:20241001T000000
DTEND;TZID=America/Los_Angeles:20241001T000000
DTSTAMP:20250812T133237Z
URL:https://onc-pdx.org/events/offline-payments/
SUMMARY:Online Payments
DESCRIPTION:This page is for online payments\, such as co-lead payments\, s
 pouses and partners\, and other special circumstances.\n\nYou need to be l
 ogged in to before you can make a payment.  Please select only the ticket
  for your reserved trip and please do not share this link.\n\nFor question
 s\, please email website@pdxnordic.org
END:VEVENT
BEGIN:VTIMEZONE
TZID:America/Los_Angeles
X-LIC-LOCATION:America/Los_Angeles
BEGIN:DAYLIGHT
DTSTART:20240310T030000
TZOFFSETFROM:-0800
TZOFFSETTO:-0700
TZNAME:PDT
END:DAYLIGHT
END:VTIMEZONE
END:VCALENDAR