BEGIN:VCALENDAR
VERSION:2.0
PRODID:-//wp-events-plugin.com//7.0.5//EN
TZID:America/Los_Angeles
X-WR-TIMEZONE:America/Los_Angeles
BEGIN:VEVENT
UID:1307@onc-pdx.org
DTSTART;TZID=America/Los_Angeles;VALUE=DATE:20260707
DTEND;TZID=America/Los_Angeles;VALUE=DATE:20260710
DTSTAMP:20260420T142518Z
URL:https://onc-pdx.org/events/ochoco-n-f-walton-lake-campout-joint-work-p
 arty-with-central-oregon/
SUMMARY:Ochoco N.F. – Walton Lake Campout Joint work party with Central O
 regon
DESCRIPTION:Join us for this always fun camping/trail tending adventure at 
 Walton Lake in Ochoco National Forest\, just east of Prineville!  The tra
 ils need our TLC (Trail Limbing and Clearing).  The area is famous for be
 autiful big pines and bands of roaming wild horses that we almost always s
 ee.\n\nFun fact:  The photo of volunteers on the main website page is fro
 m a previous campout in the area.\n\nWhat to bring:  Bring your camp gear
 \, meals\, plus 12 essentials.  Bring a comfortable pair of gloves to pro
 tect your hands (gardening gloves are ok).  Wear long pants\, a long-slee
 ved shirt\, hiking boots and protective eye wear.  Dress for the weather\
 ; it could be hot\, cold\, windy\, rainy\, or any and all in the same day.
   Have bug repellent and sunscreen.  Don't forget a small backpack with 
 lunches and snacks as you are sure to work up an appetite\, and lots of wa
 ter.  More details and carpool info to follow.\n\nSign up below - select 
 the number of spaces for all of the people in your party and provide their
  contact information where indicated.  Note to members - please sign in t
 o make a reservation.\n\nFor more info or if the signup is full\, contact 
 the leader: Ken Wenzel 503-729-6571 (call or text) skiwenzel@hotmail.com
CATEGORIES:Trail Tending
LOCATION:Walton Lake\, Walton Sno-Park\, Ochoco National Forest\, United St
 ates
X-APPLE-STRUCTURED-LOCATION;VALUE=URI;X-ADDRESS=Walton Sno-Park\, Ochoco Na
 tional Forest\, United States;X-APPLE-RADIUS=100;X-TITLE=Walton Lake:geo:0
 ,0
END:VEVENT
BEGIN:VTIMEZONE
TZID:America/Los_Angeles
X-LIC-LOCATION:America/Los_Angeles
BEGIN:DAYLIGHT
DTSTART:20260308T030000
TZOFFSETFROM:-0800
TZOFFSETTO:-0700
TZNAME:PDT
END:DAYLIGHT
END:VTIMEZONE
END:VCALENDAR