BEGIN:VCALENDAR
VERSION:2.0
PRODID:-//wp-events-plugin.com//7.0.5//EN
TZID:America/Los_Angeles
X-WR-TIMEZONE:America/Los_Angeles
BEGIN:VEVENT
UID:25@onc-pdx.org
DTSTART;TZID=America/Los_Angeles;VALUE=DATE:20150220
DTEND;TZID=America/Los_Angeles;VALUE=DATE:20150223
DTSTAMP:20150128T050236Z
URL:https://onc-pdx.org/events/ochoco-mountains-trip-4/
SUMMARY:Ochoco Mountains - Trip #4
DESCRIPTION:This trip has become a hot seller for the ONC-PDx! We are repea
 ting it several times this year. The Ochoco Mountains are located 30 miles
  east of Prineville\, OR. The high elevation of 4\,800 to 6\,200 feet and 
 desert location provide for excellent dry snow conditions and unsurpassed 
 views of the Cascades. Because of the eastern location\, and the high elev
 ation\, we usually experience sunny skies\, or snow fall. There is rarely 
 a rainy day. The trails are over gentle\, rolling hills covered with stand
 s of old growth Ponderosa and Lodge Pole Pines. The well-marked trail syst
 em by the Ochoco Chapter of the ONC offers all levels of skiing\, from eas
 y to difficult. We’ll split up into groups based on ability levels. Acc
 ommodations are in a former well-appointed forest ranger cabin (elevation 
 about 3\,000 feet) with three bedrooms\, one and a half baths. It is heate
 d and has water\, but no cell phone coverage! Participants must bring slee
 ping bags\, pillows\, and towels. We must pack out all garbage. We’ll po
 tluck dinner for Saturday night meal. Bring your own breakfast and lunches
 . The drive is about three hours from Portland. We’ll ski both Saturday 
 and Sunday.Trip limit: 7 participants\, including the leaderCost: $35 per 
 person\; you must be a current ONC member before signing up for this trip.
  This fee covers two nights of lodging.Contact leader for space availabili
 ty.  Send an ONC-PDx overnight tour application and $35 check payable to 
 ONC-Portland Chapter to the trip leader: Ann Truax\, 2824 SE 25th\, Portla
 nd\, OR 97202. For more info contact: Ann at 503 756 8891 or email ann.tru
 ax@gmail.com. 
CATEGORIES:Cross Country Ski
END:VEVENT
BEGIN:VTIMEZONE
TZID:America/Los_Angeles
X-LIC-LOCATION:America/Los_Angeles
BEGIN:STANDARD
DTSTART:20141102T010000
TZOFFSETFROM:-0700
TZOFFSETTO:-0800
TZNAME:PST
END:STANDARD
END:VTIMEZONE
END:VCALENDAR