BEGIN:VCALENDAR
VERSION:2.0
PRODID:-//wp-events-plugin.com//7.0.5//EN
TZID:America/Los_Angeles
X-WR-TIMEZONE:America/Los_Angeles
BEGIN:VEVENT
UID:20@onc-pdx.org
DTSTART;TZID=America/Los_Angeles;VALUE=DATE:20150206
DTEND;TZID=America/Los_Angeles;VALUE=DATE:20150209
DTSTAMP:20150128T051002Z
URL:https://onc-pdx.org/events/ochoco-mountains-trip-3/
SUMMARY:Ochoco Mountains -- Trip #3
DESCRIPTION:The Ochocos are located 30 miles east of Prineville\, OR. The h
 igh elevation of 4\,800 to 6\,200 feet and desert location provide for exc
 ellent dry snow conditions and unsurpassed views of the Cascades. Because 
 of the location and the high elevation\, we usually experience sunny skies
 \, or snow fall. There is rarely a rainy winter day here. The trails are o
 ver gentle\, rolling hills covered with stands of old growth Ponderosa and
  lodge Pole Pines. The well-marked trail system by the Ochoco Chapter of t
 he ONC offers all levels of skiing\, from easy to difficult. We’ll split
  up into groups based on ability levels and ski both Saturday and Sunday.A
 ccommodations are in a former well-appointed forest ranger cabin (elevatio
 n about 3\,000 feet) with three bedrooms\, one and a half baths. It is hea
 ted and has water\, but no cell hone coverage! Participants must bring sle
 eping bags\, pillows\, and towels. We must pack out all garbage. We’ll p
 otluck dinner for Saturday night meal. Bring your own breakfast and lunche
 s. The drive is about three hours from Portland.Trip limit: 7 participants
  (includes the leader)Cost: $35 per person\; you must be a current ONC mem
 ber before signing up for this trip. This fee covers two nights of lodging
 .Contact leader for space availability.  Send an ONC-PDx overnight tour a
 pplication and $35 check payable to ONC-Portland Chapter to the trip leade
 r: John Long\, 3845 SW 54th Place\, Portland\, OR 97221-2176. For more inf
 o contact John 503 867-6048 or email johnlong3@comcast.net. 
CATEGORIES:Backcountry Ski/Telemarking,Cross Country Ski
END:VEVENT
BEGIN:VTIMEZONE
TZID:America/Los_Angeles
X-LIC-LOCATION:America/Los_Angeles
BEGIN:STANDARD
DTSTART:20141102T010000
TZOFFSETFROM:-0700
TZOFFSETTO:-0800
TZNAME:PST
END:STANDARD
END:VTIMEZONE
END:VCALENDAR