BEGIN:VCALENDAR
VERSION:2.0
PRODID:-//wp-events-plugin.com//7.0.5//EN
TZID:America/Los_Angeles
X-WR-TIMEZONE:America/Los_Angeles
BEGIN:VEVENT
UID:13@onc-pdx.org
DTSTART;TZID=America/Los_Angeles;VALUE=DATE:20150123
DTEND;TZID=America/Los_Angeles;VALUE=DATE:20150126
DTSTAMP:20141203T012251Z
URL:https://onc-pdx.org/events/ochoco-mountains-trip-2/
SUMMARY:Ochoco Mountains\, Trip #2
DESCRIPTION:This trip has become a hot seller for the ONC-PDx! We are repea
 ting it several times this year. The Ochoco Mountains are located 30 miles
  east of Prineville\, OR. The high elevation of 4\,800 to 6\,200 feet and 
 desert location provide for excellent dry snow conditions and unsurpassed 
 views of the Cascades. Because of the eastern location\, and the high elev
 ation\, we usually experience sunny skies\, or snow fall. There is rarely 
 a rainy day. The trails are over gentle\, rolling hills covered with stand
 s of old growth Ponderosa and Lodge Pole Pines. The well-marked trail syst
 em by the Ochoco Chapter of the ONC offers all levels of skiing\, from eas
 y to difficult. We’ll split up into groups based on ability levels and s
 ki both Saturday and Sunday.Accommodations are in a former well-appointed 
 forest ranger cabin (elevation about 3\,000 feet) with three bedrooms\, on
 e and a half baths. It is heated and has water\, but no cell phone coverag
 e! Participants must bring sleeping bags\, pillows\, and towels. We must p
 ack out all garbage. We’ll potluck dinner for Saturday night meal. Bring
  your own breakfast and lunches. The drive is about three hours from Portl
 and. Trip limit: 7 participants (includes the leader).Cost: $35 per perso
 n\; you must be a current ONC member before signing up for this trip. This
  fee covers two nights of lodging.Check with leader for space availability
 .  Send an ONC-PDx overnight tour application and $35 check payable to ON
 C-Portland Chapter to the trip leader: Ted Scheinman\, 36 SW Brugger St.\,
  Portland\, OR 97219\, phone 503-452-7432 or email tedskier@gmail.com. 
CATEGORIES:Backcountry Ski/Telemarking,Cross Country Ski
END:VEVENT
BEGIN:VTIMEZONE
TZID:America/Los_Angeles
X-LIC-LOCATION:America/Los_Angeles
BEGIN:STANDARD
DTSTART:20141102T010000
TZOFFSETFROM:-0700
TZOFFSETTO:-0800
TZNAME:PST
END:STANDARD
END:VTIMEZONE
END:VCALENDAR