BEGIN:VCALENDAR
VERSION:2.0
PRODID:-//wp-events-plugin.com//7.0.5//EN
TZID:America/Los_Angeles
X-WR-TIMEZONE:America/Los_Angeles
BEGIN:VEVENT
UID:115@onc-pdx.org
DTSTART;TZID=America/Los_Angeles;VALUE=DATE:20160129
DTEND;TZID=America/Los_Angeles;VALUE=DATE:20160201
DTSTAMP:20151014T143248Z
URL:https://onc-pdx.org/events/ochoco-mountains-trip-2-2/
SUMMARY:Ochoco Mountains-Trip 2
DESCRIPTION:Jan 29-31\, Fri-Sun All ability skiWe will ski in the Ochoco Mo
 untains about 30 miles east of Prineville in a relatively remote area of O
 regon to take advantage of the dry snow and wonderful views. For two night
 s we will stay in a former forest ranger cabin with three bedrooms\, one a
 nd a half bathrooms. It has electric heat and water but no cell reception!
 Trip Limit: 7 participants\, including the leader.Cost: $35 per person\, i
 ncludes two nights lodging.Sign up at the Overnight Trip Extravaganza in O
 ctober. Afterwards\, you may sign-up on the ONC-PDX website or send your o
 vernight tour application and a check for $35 payable to ONC-Portland Chap
 ter\, to the trip leader\, Karen Suher.For more info contact Karen Suher a
 t 503-577-8983 or ksuher@comcast.net
CATEGORIES:Cross Country Ski
LOCATION:Ochocos\, Hwy 26\, Prineville\, OR\, United States
GEO:44.353840;-120.538399
X-APPLE-STRUCTURED-LOCATION;VALUE=URI;X-ADDRESS=Hwy 26\, Prineville\, OR\, 
 United States;X-APPLE-RADIUS=100;X-TITLE=Ochocos:geo:44.353840,-120.538399
END:VEVENT
BEGIN:VTIMEZONE
TZID:America/Los_Angeles
X-LIC-LOCATION:America/Los_Angeles
BEGIN:STANDARD
DTSTART:20151101T010000
TZOFFSETFROM:-0700
TZOFFSETTO:-0800
TZNAME:PST
END:STANDARD
END:VTIMEZONE
END:VCALENDAR