BEGIN:VCALENDAR
VERSION:2.0
PRODID:-//wp-events-plugin.com//7.0.5//EN
TZID:America/Los_Angeles
X-WR-TIMEZONE:America/Los_Angeles
BEGIN:VEVENT
UID:112@onc-pdx.org
DTSTART;TZID=America/Los_Angeles;VALUE=DATE:20160108
DTEND;TZID=America/Los_Angeles;VALUE=DATE:20160111
DTSTAMP:20151111T015002Z
URL:https://onc-pdx.org/events/ochoco-mountains-prineville-or-trip-1/
SUMMARY:Ochoco Mountains\, Prineville\, OR Trip 1
DESCRIPTION:Jan 8-10\, Fri-SunAll ability skiWe will ski in the Ochoco Moun
 tains about 30 miles east of Prineville in a relatively remote area of Ore
 gon to take advantage of the dry snow and wonderful views. For two nights 
 we will stay in a former forest ranger cabin with three bedrooms\, one and
  a half bathrooms. It has electric heat and water but no cell reception!Tr
 ip Limit: 7 participants\, including the leader.Cost: $35.00 per person\, 
 includes two nights lodging.Sign up at the Overnight Trip Extravaganza in 
 October. Afterwards\, you may sign-up on the ONC-PDX website or send your 
 overnight tour application and a check for $35 payable to ONC-Portland Cha
 pter\, to the trip leader\, Ken Wenzel. For info contact Ken 503 297-2958 
 skiwenzel@hotmail.com.&nbsp\;
CATEGORIES:Cross Country Ski
LOCATION:Ochocos\, Hwy 26\, Prineville\, OR\, United States
GEO:44.353840;-120.538399
X-APPLE-STRUCTURED-LOCATION;VALUE=URI;X-ADDRESS=Hwy 26\, Prineville\, OR\, 
 United States;X-APPLE-RADIUS=100;X-TITLE=Ochocos:geo:44.353840,-120.538399
END:VEVENT
BEGIN:VTIMEZONE
TZID:America/Los_Angeles
X-LIC-LOCATION:America/Los_Angeles
BEGIN:STANDARD
DTSTART:20151101T010000
TZOFFSETFROM:-0700
TZOFFSETTO:-0800
TZNAME:PST
END:STANDARD
END:VTIMEZONE
END:VCALENDAR