BEGIN:VCALENDAR
VERSION:2.0
PRODID:-//wp-events-plugin.com//7.0.5//EN
TZID:America/Los_Angeles
X-WR-TIMEZONE:America/Los_Angeles
BEGIN:VEVENT
UID:957@onc-pdx.org
DTSTART;TZID=America/Los_Angeles;VALUE=DATE:20230221
DTEND;TZID=America/Los_Angeles;VALUE=DATE:20230225
DTSTAMP:20230210T204858Z
URL:https://onc-pdx.org/events/ochoco-mountains-mid-week/
SUMMARY:Ochoco Mountains Mid-week
DESCRIPTION:Ochoco National Forest\, OR\nFeb. 21-24\, Tue-Fri\nIntermediate
  Ski on ungroomed trails\n\n\nDo you want to escape from it all in a quiet
  corner of Oregon (18 miles outside of Prineville) with good snow and inte
 rmediate/easy terrain? Join this 3 day midweek trip to the former Ochoco N
 ational Forest Ranger Station where there's no cell service or TV.&nbsp\; 
 Two bedrooms have double beds and the 3rd bedroom has 3 twin beds. There
 ’s a full bathroom downstairs and a half bath upstairs.&nbsp\; The kitch
 en is fairly well equipped for any "gourmet" cooking we may want to do.\n\
 nThe Walton Lake area has 6 ski trails\; Bandit Springs has 7 ski trails (
 rated easy to most difficult)\, but is at a lower elevation than Walton La
 ke.&nbsp\; On one of the past trips when there was no snow at Bandit Sprin
 gs\, we drove to the Painted Hills - another beautiful sight in Eastern Or
 egon. &nbsp\; For carpooling\, it is approximately 350 miles round trip\, 
 plus excursions to ski or sight-see.\n\nFor some photos of a past trip\, c
 lick here.\n\nTrip limit:&nbsp\; 6 participants\, including trip leader\nC
 ost: &nbsp\;$60/member\, per person.&nbsp\; Includes 3 nights lodging.&nbs
 p\; Excludes cost of travel and meals.\nCarpool miles:&nbsp\; 350 miles ro
 undtrip from Portland plus excursions to trailheads.\nTrip Leader: Laurel 
 Dickie\, laureldickie@hotmail.com
CATEGORIES:Backcountry Ski/Telemarking,Cross Country Ski
END:VEVENT
BEGIN:VTIMEZONE
TZID:America/Los_Angeles
X-LIC-LOCATION:America/Los_Angeles
BEGIN:STANDARD
DTSTART:20221106T010000
TZOFFSETFROM:-0700
TZOFFSETTO:-0800
TZNAME:PST
END:STANDARD
END:VTIMEZONE
END:VCALENDAR